BEGIN:VCALENDAR
VERSION:2.0
PRODID:-//Palpung New York - ECPv6.14.2//NONSGML v1.0//EN
CALSCALE:GREGORIAN
METHOD:PUBLISH
X-WR-CALNAME:Palpung New York
X-ORIGINAL-URL:https://palpungny.org
X-WR-CALDESC:Events for Palpung New York
REFRESH-INTERVAL;VALUE=DURATION:PT1H
X-Robots-Tag:noindex
X-PUBLISHED-TTL:PT1H
BEGIN:VTIMEZONE
TZID:America/New_York
BEGIN:DAYLIGHT
TZOFFSETFROM:-0500
TZOFFSETTO:-0400
TZNAME:EDT
DTSTART:20200308T070000
END:DAYLIGHT
BEGIN:STANDARD
TZOFFSETFROM:-0400
TZOFFSETTO:-0500
TZNAME:EST
DTSTART:20201101T060000
END:STANDARD
END:VTIMEZONE
BEGIN:VEVENT
DTSTART;TZID=America/New_York:20200309T130000
DTEND;TZID=America/New_York:20200309T170000
DTSTAMP:20260421T014803
CREATED:20200204T003827Z
LAST-MODIFIED:20230521T100702Z
UID:10000385-1583758800-1583773200@palpungny.org
SUMMARY:03/09/2020 - Commemoration of Chötrul Duchen
DESCRIPTION:In honor of the full moon of the Month of the Buddha’s Miracles\, Chötrul Duchen\, when\, for fifteen days\, the Buddha displayed miracles\, we will be offering 500 butterlamps and chanting the Buddha Shakyamuni prayer.  On this very auspicious day your merit will be multiplied 10 million times\, which happens only 4 times per year.  Please join us for the chanting and/or sponsoring the chanting. \n1:30 pm | Chanting of the Buddha Shakyamuni Prayer \nYou may make your donations on-line via PayPal or simply mail your tax-deductible contribution to: \nPalpung Thubten Chöling\nAttn: Office\n245 Sheafe Road\, Wappingers Falls\, NY 12590. \nPlease make checks payable to Palpung Thubten Choling. For credit card payments\, fax your credit card number (VISA or MasterCard only)\, along with the expiration date and signature and the amount you would like to charge to (845) 297-5761. For your protection\, please do not email your credit card information. \nAs we are not able to check email during chanting events\, please send your prayer request and sponsorship information 48 hours before the day of chanting to guarantee that we receive it in time to announce your prayer. If you are not able to do that\, please leave a short but clear message of your prayer on  845-297-2500  and we will do our best to have your prayer announced. \nThere is no charge for attending the chanting but reservations are required if you plan to join us for meals and/or need overnight accommodations. Rates for accommodations & individual meals are available on our visitor information page. Please send an email to reservations@kagyu.com if you are joining us for meals only. \nPlease note: When arriving by train\, please make pick-up arrangements in advance. Click here for information on taxis
URL:https://palpungny.org/events/commemoration-of-chotrul-duchen/
LOCATION:Palpung Thubten Chöling\, 245 Sheafe Road\, Wappingers Falls\, NY\, 12590\, United States
CATEGORIES:Past Events
ATTACH;FMTTYPE=image/jpeg:https://palpungny.org/wp-content/uploads/2019/07/shakyamuni-buddha-1-e1564461104638.jpg
END:VEVENT
END:VCALENDAR