BEGIN:VCALENDAR
VERSION:2.0
PRODID:-//Palpung New York - ECPv6.14.2//NONSGML v1.0//EN
CALSCALE:GREGORIAN
METHOD:PUBLISH
X-WR-CALNAME:Palpung New York
X-ORIGINAL-URL:https://palpungny.org
X-WR-CALDESC:Events for Palpung New York
REFRESH-INTERVAL;VALUE=DURATION:PT1H
X-Robots-Tag:noindex
X-PUBLISHED-TTL:PT1H
BEGIN:VTIMEZONE
TZID:America/New_York
BEGIN:DAYLIGHT
TZOFFSETFROM:-0500
TZOFFSETTO:-0400
TZNAME:EDT
DTSTART:20200308T070000
END:DAYLIGHT
BEGIN:STANDARD
TZOFFSETFROM:-0400
TZOFFSETTO:-0500
TZNAME:EST
DTSTART:20201101T060000
END:STANDARD
END:VTIMEZONE
BEGIN:VEVENT
DTSTART;TZID=America/New_York:20201221T160000
DTEND;TZID=America/New_York:20201221T170000
DTSTAMP:20260421T151811
CREATED:20201126T215123Z
LAST-MODIFIED:20201127T170956Z
UID:10000647-1608566400-1608570000@palpungny.org
SUMMARY:12/21/2020 - Winter Solstice Celebration
DESCRIPTION:In light of concerns about the coronavirus outbreak\, to protect the well-being and safety of everyone\, Palpung Thubten Chöling Monastery remains closed to the public. \nJoin us on-line as we celebrate the shortest day of the year\, welcome the returning light\, assuage obstacles and karmic debt\, and pray for all those who have passed. \nThis session is being offered remotely on Zoom. If you would like to participate please email Lama Lhadrun. \n  \n4:00 pm  | Chanting Chenrezig Sadhana and Evening Fire Ceremony \n  \nWe chant and meditate on Chenrezig in order to realize our inborn great compassion. Guru Vajradhara Tai Situ Rinpoche has said that\, “Chenrezig is the embodiment of compassion\, Bodhicitta. We reach Buddhahood intentionally\, and the intention is Bodhicitta. That is what Chenrezig represents. The Chenrezig Sadhana is the most sacred and profound sadhana. By practicing it with awareness\, you can attain Chenrezig’s enlightened body\, speech\, and mind.” \nSür (evening fire offering ceremony) is an offering to the 4 guests: the Buddhas & Bodhisattvas; Protectors; sentient beings; and those with whom we have karmic debts. It averts obstacles and sickness and is dedicated to those who are dying\, beings in the Bardo\, and to beings with whom we have karmic debts. \n  \nPlease feel free to send in short prayers with an offering of $5 or more. They will be read aloud to the assembly before the chanting begins. \n  \nYou may make your donations on-line (specify purpose for payment as Winter Solstice) or simply mail your tax-deductible contribution to: \nPalpung Thubten Chöling\nAttn: Office\n245 Sheafe Road\, Wappingers Falls\, NY 12590. \n  \nPlease make checks payable to Palpung Thubten Choling or PTC. For credit card payments\, fax your credit card number (VISA or MasterCard only)\, along with the expiration date and signature and the amount you would like to charge to (845) 297-5761. For your protection\, please do not email your credit card information.
URL:https://palpungny.org/events/12-21-2020-winter-solstice-celebration/
LOCATION:Palpung Thubten Chöling\, 245 Sheafe Road\, Wappingers Falls\, NY\, 12590\, United States
CATEGORIES:Current Events,Ongoing Events
ATTACH;FMTTYPE=image/jpeg:https://palpungny.org/wp-content/uploads/2020/11/winter-soltice-1-min.jpg
END:VEVENT
BEGIN:VEVENT
DTSTART;TZID=America/New_York:20201221T193000
DTEND;TZID=America/New_York:20201221T200000
DTSTAMP:20260421T151811
CREATED:20201113T214738Z
LAST-MODIFIED:20230401T160754Z
UID:10001249-1608579000-1608580800@palpungny.org
SUMMARY:Monday Evenings - Introduction to Buddhist Meditation
DESCRIPTION:Due to the risks of covid and its variants\, Monday\, Tuesday\, Wednesday and Thursday night classes will continue on Zoom only. To join us via Zoom please click here. \n  \n7:30-8:30pm | Introduction to Buddhist Meditation\nTeachings on foundational Buddhist thought along with basic meditation instructions taught by resident teachers who have graduated from the PTC three-year retreat program. Appropriate for beginners and for anyone who would like to refresh their understanding of meditation or just meditate with a group. No prerequisites or attendance requirement\, join us any Monday. \nIf you would like to participate\, please use our online event registration form.
URL:https://palpungny.org/events/monday-evenings-introduction-to-buddhist-meditation/2020-12-21/
LOCATION:Palpung Thubten Chöling\, 245 Sheafe Road\, Wappingers Falls\, NY\, 12590\, United States
CATEGORIES:Ongoing Events
END:VEVENT
END:VCALENDAR