BEGIN:VCALENDAR
VERSION:2.0
PRODID:-//Palpung New York - ECPv6.14.2//NONSGML v1.0//EN
CALSCALE:GREGORIAN
METHOD:PUBLISH
X-WR-CALNAME:Palpung New York
X-ORIGINAL-URL:https://palpungny.org
X-WR-CALDESC:Events for Palpung New York
REFRESH-INTERVAL;VALUE=DURATION:PT1H
X-Robots-Tag:noindex
X-PUBLISHED-TTL:PT1H
BEGIN:VTIMEZONE
TZID:America/New_York
BEGIN:DAYLIGHT
TZOFFSETFROM:-0500
TZOFFSETTO:-0400
TZNAME:EDT
DTSTART:20200308T070000
END:DAYLIGHT
BEGIN:STANDARD
TZOFFSETFROM:-0400
TZOFFSETTO:-0500
TZNAME:EST
DTSTART:20201101T060000
END:STANDARD
END:VTIMEZONE
BEGIN:VEVENT
DTSTART;TZID=America/New_York:20201231T140000
DTEND;TZID=America/New_York:20201231T150000
DTSTAMP:20260420T070559
CREATED:20201126T234903Z
LAST-MODIFIED:20201126T234903Z
UID:10000651-1609423200-1609426800@palpungny.org
SUMMARY:12/31/2020 -  Sür\, Evening Fire Offering Ceremony
DESCRIPTION:In light of the coronavirus outbreak\, to protect the well-being and safety of everyone\, Palpung Thubten Chöling Monastery remains closed to the public. \n  \nDecember 31\, Thursday (2:00 pm) | Sür\, Evening Fire Offering Ceremony\nSür (evening fire offering ceremony) is an offering to the 4 guests: the Buddhas & Bodhisattvas; Protectors; sentient beings; and those with whom we have karmic debts. It averts obstacles and sickness and is dedicated to those who are dying\, beings in the Bardo\, and to beings with whom we have karmic debts. \n  \nAlthough the monastery is closed to the public\, there are many ways to share in the merit of these activities through sponsoring meals\, fire offering ceremonies\, or the tea served during the chanting. Be sure to include a prayer with your donation which will be read aloud to the assembly. \n  \nYou may also simply mail your tax-deductible contribution to:\nPalpung Thubten Chöling\nAttn: Office\n245 Sheafe Road\, Wappingers Falls\, NY 12590. \n  \nPlease make checks payable to Palpung Thubten Choling or PTC. For credit card payments\, fax your credit card number (VISA or MasterCard only)\, along with the expiration date and signature and the amount you would like to charge to (845) 297-5761. For your protection\, please do not email your credit card information. \n  \nAs we are not able to check email during chanting events\, please send your prayer request and sponsorship information 48 hours before the first day of chanting to guarantee that we receive it in time to announce your prayer. If you are not able to do that\, please leave a short but clear message of your prayer on  845-297-2500  and we will do our best to have your prayer announced.
URL:https://palpungny.org/events/12-31-2020-sur-evening-fire-offering-ceremony/
LOCATION:Palpung Thubten Chöling\, 245 Sheafe Road\, Wappingers Falls\, NY\, 12590\, United States
CATEGORIES:Ongoing Events
END:VEVENT
BEGIN:VEVENT
DTSTART;TZID=America/New_York:20201231T150000
DTEND;TZID=America/New_York:20201231T150000
DTSTAMP:20260420T070559
CREATED:20201126T235531Z
LAST-MODIFIED:20201127T000744Z
UID:10000644-1609426800-1609426800@palpungny.org
SUMMARY:12/31/2020 - Long Life Ritual (Chiblu) inserted inside Daily Protector Practice (Mahakala)
DESCRIPTION:In light of the coronavirus outbreak\, to protect the well-being and safety of everyone\, Palpung Thubten Chöling Monastery remains closed to the public. \n  \nDecember 31\, Thursday (following Sür) | Long Life Ritual (Chiblu) inserted inside Daily Protector Practice (Mahakala)\nThis vajrayana ritual is a profound means to avert obstacles to long life. \n  \nAlthough the monastery is closed to the public\, there are many ways to share in the merit of these activities through sponsoring meals\, fire offering ceremonies\, or the tea served during the chanting. Be sure to include a prayer with your donation which will be read aloud to the assembly. \n  \nYou may also simply mail your tax-deductible contribution to:\nPalpung Thubten Chöling\nAttn: Office\n245 Sheafe Road\, Wappingers Falls\, NY 12590. \n  \nPlease make checks payable to Palpung Thubten Choling or PTC. For credit card payments\, fax your credit card number (VISA or MasterCard only)\, along with the expiration date and signature and the amount you would like to charge to (845) 297-5761. For your protection\, please do not email your credit card information. \n  \nAs we are not able to check email during chanting events\, please send your prayer request and sponsorship information 48 hours before the first day of chanting to guarantee that we receive it in time to announce your prayer. If you are not able to do that\, please leave a short but clear message of your prayer on  845-297-2500  and we will do our best to have your prayer announced.
URL:https://palpungny.org/events/12-31-2020-long-life-ritual-chiblu-inserted-inside-daily-protector-practice-mahakala/
LOCATION:Palpung Thubten Chöling\, 245 Sheafe Road\, Wappingers Falls\, NY\, 12590\, United States
CATEGORIES:Ongoing Events
END:VEVENT
BEGIN:VEVENT
DTSTART;TZID=America/New_York:20201231T193000
DTEND;TZID=America/New_York:20201231T200000
DTSTAMP:20260420T070559
CREATED:20201113T213814Z
LAST-MODIFIED:20230401T161123Z
UID:10000736-1609443000-1609444800@palpungny.org
SUMMARY:Thursday Evenings - Chenrezig Practice
DESCRIPTION:Due to the risks of covid and its variants\, Monday\, Tuesday\, Wednesday and Thursday night classes will continue on Zoom only. To join us via Zoom please click here. \n7:30-8:30pm | Chenrezig Practice\nPlease join us online as we chant and meditate in order to realize our inborn great compassion.  Guru Vajradhara Tai Situ Rinpoche has said that\, “Chenrezig is the embodiment of compassion\, Bodhicitta. We reach Buddhahood intentionally\, and the intention is Bodhicitta. That is what Chenrezig represents. The Chenrezig Sadhana is the most sacred and profound sadhana. By practicing it with awareness\, you can attain Chenrezig’s enlightened body\, speech\, and mind.” \nThe liturgy is being screen shared. It is translated as well as written phonetically. You can chant along\, or silently read the translation. \nIf you would like to participate\, please use our online event registration form. \n 
URL:https://palpungny.org/events/thursday-evenings-chenrezig-practice/2020-12-31/
LOCATION:Palpung Thubten Chöling\, 245 Sheafe Road\, Wappingers Falls\, NY\, 12590\, United States
CATEGORIES:Ongoing Events
ATTACH;FMTTYPE=image/jpeg:https://palpungny.org/wp-content/uploads/2022/05/chenrezig-min-e1651436726448.jpeg
END:VEVENT
END:VCALENDAR