BEGIN:VCALENDAR
VERSION:2.0
PRODID:-//Palpung New York - ECPv6.14.2//NONSGML v1.0//EN
CALSCALE:GREGORIAN
METHOD:PUBLISH
X-WR-CALNAME:Palpung New York
X-ORIGINAL-URL:https://palpungny.org
X-WR-CALDESC:Events for Palpung New York
REFRESH-INTERVAL;VALUE=DURATION:PT1H
X-Robots-Tag:noindex
X-PUBLISHED-TTL:PT1H
BEGIN:VTIMEZONE
TZID:America/New_York
BEGIN:DAYLIGHT
TZOFFSETFROM:-0500
TZOFFSETTO:-0400
TZNAME:EDT
DTSTART:20210314T070000
END:DAYLIGHT
BEGIN:STANDARD
TZOFFSETFROM:-0400
TZOFFSETTO:-0500
TZNAME:EST
DTSTART:20211107T060000
END:STANDARD
END:VTIMEZONE
BEGIN:VEVENT
DTSTART;VALUE=DATE:20210220
DTEND;VALUE=DATE:20210221
DTSTAMP:20260420T204621
CREATED:20210127T042125Z
LAST-MODIFIED:20210214T170326Z
UID:10000157-1613779200-1613865599@palpungny.org
SUMMARY:Celebration of the 68th Birthday of Guru Vajradhara the 12th Chamgon Kenting Tai Situpa
DESCRIPTION:In light of concerns about the coronavirus outbreak\, to protect the well-being and safety of everyone\, Palpung Thubten Chöling Monastery remains closed to the public. \n  \nJoin us online as we celebrate the 68th birthday of Guru Vajradhara the 12th Chamgon Kenting Tai Situpa. \nThis session is being offered remotely on Zoom.  If you would like to participate please email Lama Lhadrun. \n  \n9:30 am | Prayers for long life and auspicious conditions. These will include a special morning purification fire ceremony (Gelek Trinpung)\, the prayer to the Sixteen Arhats and the practice of White Tara. An offering of a Ku Sung Tuk ceremony (the symbols of enlightened body\, speech and mind) will be inserted within the chanting. \n  \nAlthough the monastery is closed to the public\, there are many ways to share in the merit of these activities through sponsoring the fire offering ceremony and the tea served during the chanting. Be sure to include a prayer with your donation which will be read aloud to the assembly. \nYou may also simply mail your tax-deductible contribution to:\nPalpung Thubten Chöling\nAttn: Office\n245 Sheafe Road\, Wappingers Falls\, NY 12590. \nPlease make checks payable to Palpung Thubten Choling or PTC. For credit card payments\, fax your credit card number (VISA or MasterCard only)\, along with the expiration date and signature and the amount you would like to charge to (845) 297-5761. For your protection\, please do not email your credit card information. \n慶祝廣定大司徒仁波切68歲生日盛會 \n2021年2月20日（週六） \n因疫情之故\,法林寺嚴禁對外開放！ \n邀請您綫上共同慶祝廣定大司徒仁波切生日  \n\n法會將在線上zoom 轉播。請電郵Lama Lhadrun取得房間號碼。 \n\n上午9:30開始慶生盛會：修長壽吉祥法門，包括 “桑”火供法會（淨化煙供），修長壽白度母、十六阿羅漢，獻供身、語、意-證悟的象徵。\n\n雖然本寺不對外開放，但各位仍能隨喜贊助火供、供茶，而共享法會的功德。請點擊此處贊助並付上回向名字。
URL:https://palpungny.org/events/celebration-of-the-68th-birthday-of-guru-vajradhara-the-12th-chamgon-kenting-tai-situpa/
LOCATION:Palpung Thubten Chöling\, 245 Sheafe Road\, Wappingers Falls\, NY\, 12590\, United States
CATEGORIES:Current Events
ATTACH;FMTTYPE=image/jpeg:https://palpungny.org/wp-content/uploads/2021/01/tsr-onthrone-min-scaled-e1602197458823.jpg
END:VEVENT
END:VCALENDAR