BEGIN:VCALENDAR
VERSION:2.0
PRODID:-//Palpung New York - ECPv6.14.2//NONSGML v1.0//EN
CALSCALE:GREGORIAN
METHOD:PUBLISH
X-WR-CALNAME:Palpung New York
X-ORIGINAL-URL:https://palpungny.org
X-WR-CALDESC:Events for Palpung New York
REFRESH-INTERVAL;VALUE=DURATION:PT1H
X-Robots-Tag:noindex
X-PUBLISHED-TTL:PT1H
BEGIN:VTIMEZONE
TZID:America/New_York
BEGIN:DAYLIGHT
TZOFFSETFROM:-0500
TZOFFSETTO:-0400
TZNAME:EDT
DTSTART:20210314T070000
END:DAYLIGHT
BEGIN:STANDARD
TZOFFSETFROM:-0400
TZOFFSETTO:-0500
TZNAME:EST
DTSTART:20211107T060000
END:STANDARD
END:VTIMEZONE
BEGIN:VEVENT
DTSTART;TZID=America/New_York:20210227T080000
DTEND;TZID=America/New_York:20210227T170000
DTSTAMP:20260421T140911
CREATED:20210120T154050Z
LAST-MODIFIED:20210227T191301Z
UID:10000152-1614412800-1614445200@palpungny.org
SUMMARY:02/27/2021 - Commemoration of Chotrul Duchen and the Anniversary of Milarepa
DESCRIPTION:Commemoration of Chotrul Duchen and the Anniversary of Milarepa\nFebruary 27\, 2021 (Saturday)\nIn light of concerns about the coronavirus outbreak\, to protect the well-being and safety of everyone\, Palpung Thubten Chöling Monastery remains closed to the public.  \nThe anniversary of Milarepa auspiciously coincides with Chotrul Duchen\, the ‘Festival of Miracles’ which occurs on the full moon of the first Tibetan month\, and commemorates the Buddha performing fifteen days of miracles in order to inspire devotion in his disciples. On Chotrul Duchen\, all positive and negative actions are said to be multiplied 10 million times. \n6:30 am | Thousandfold Lamp Offering (Tong Chö)\nA traditional Tong Chö of 1\,000 butter lamps\, 1\,000 bowls of saffron water and 300 bowls filled with rice\, incense and flowers accompanied by chanting of the Chenrezig practice. \n \nThe next chanting sessions are being offered remotely on Zoom. If you would like to participate please email Lama Lhadrun. \n10:00 am | Kalu Rinpoche’s Practice of Aspiration Prayers (Monlam Choga)\, followed by the Short Practice of the Peaceful & Wrathful Deities (Shitro)\nChanting of the Monlam Choga\, a practice of offering and aspiration prayers compiled by Dorje Chang Kalu Rinpoche. This is followed by the short liturgy of Shitro (Peaceful and Wrathful Deities)\, a profound practice from the cycle of teachings and meditations of the Tibetan Book of the Dead. We dedicate this practice to the deceased in order to purify negativities\, avert obstacles in the bardo\, and establish a connection with the deities that will ripen in future lives \n2:00 pm | Chanting of Milarepa Practice with Feast Offering (Tsok)\nMilarepa is the most beloved yogi and poet of Tibet and one of the forefathers of the Kagyu lineage revered for his inspirational life story and profound songs of realization. The Guru Yoga of Milarepa is an essential practice of the Kagyu lineage in which the transmission of devotion becomes the basis of Mahamudra. \n  \nAlthough the monastery is closed to the public\, there are many ways to share in the merit of these activities through sponsoring the chanting\, the tea served during the chanting\, meals\, and the offering of butter lamps. Be sure to include a prayer with your donation which will be read aloud to the assembly.  \nYou may make your donations on-line or simply mail your tax-deductible contribution to: \nPalpung Thubten Chöling\nAttn: Office\n245 Sheafe Road\, Wappingers Falls\, NY 12590. \nPlease make checks payable to Palpung Thubten Choling or PTC. For credit card payments\, fax your credit card number (VISA or MasterCard only)\, along with the expiration date and signature and the amount you would like to charge to (845) 297-5761. For your protection\, please do not email your credit card information. \n\n\n\n\n\n\nGeneral Information about Events at KTC\n  \nNote: We do not offer seminars every weekend. Please check the special events listings or contact us to find out about upcoming seminars. \n\nSeminar fees are per session and do not include charges for meals or accommodations. \n\nSeminars taught by the resident teacher: $25 Non-members | $20 Members | $15 Students (with valid student ID). Seminars taught by KTC retreat graduates: $20 Non-members | $15 Members | $10 Students (with valid student ID). Pricing for visiting teachers may vary and will be included in the description of individual events above.\n\nRegistration: Before every session\, please arrive 20 minutes early to allow for registration.\n\nReservations (1 week in advance) are required for all meals and overnight stays.\nPlease use our online Reservation Form. If you need assistance or have to make a reservation closer to the event please email reservations@kagyu.com.\n\nRates for accommodations & individual meals are available on our visitor information page.\n\n Cash\, checks\, Visa\, and MasterCard accepted.\n\n Please Note: Schedule is subject to change. To confirm programs\, please call (845) 297- 2500.
URL:https://palpungny.org/events/02-27-2021-commemoration-of-chotrul-duchen-and-the-anniversary-of-milarepa/
LOCATION:Palpung Thubten Chöling\, 245 Sheafe Road\, Wappingers Falls\, NY\, 12590\, United States
CATEGORIES:Current Events
ATTACH;FMTTYPE=image/jpeg:https://palpungny.org/wp-content/uploads/2021/01/milarepamin.jpg
END:VEVENT
END:VCALENDAR