BEGIN:VCALENDAR
VERSION:2.0
PRODID:-//Palpung New York - ECPv6.14.2//NONSGML v1.0//EN
CALSCALE:GREGORIAN
METHOD:PUBLISH
X-WR-CALNAME:Palpung New York
X-ORIGINAL-URL:https://palpungny.org
X-WR-CALDESC:Events for Palpung New York
REFRESH-INTERVAL;VALUE=DURATION:PT1H
X-Robots-Tag:noindex
X-PUBLISHED-TTL:PT1H
BEGIN:VTIMEZONE
TZID:America/New_York
BEGIN:DAYLIGHT
TZOFFSETFROM:-0500
TZOFFSETTO:-0400
TZNAME:EDT
DTSTART:20210314T070000
END:DAYLIGHT
BEGIN:STANDARD
TZOFFSETFROM:-0400
TZOFFSETTO:-0500
TZNAME:EST
DTSTART:20211107T060000
END:STANDARD
END:VTIMEZONE
BEGIN:VEVENT
DTSTART;TZID=America/New_York:20210402T080000
DTEND;TZID=America/New_York:20210509T170000
DTSTAMP:20260419T085354
CREATED:20210403T045856Z
LAST-MODIFIED:20210510T193805Z
UID:10001511-1617350400-1620579600@palpungny.org
SUMMARY:Memorial Prayers for Bardor Tulku Rinpoche
DESCRIPTION:All of us at PTC Monastery share in the loss and deep sadness of the family and students of Bardor Tulku Rinpoche. We are praying that Rinpoche traverse the bhumis and paths without obstacle and swiftly return for the benefit of sentient beings. \nThe monastery will be offering 100 butter lamps a week for seven weeks dedicated to Rinpoche\, and are praying for Rinpoche’s family and students to have happiness\, long life\, and to enjoy an abundance of dharma.
URL:https://palpungny.org/events/memorial-prayers-for-bardor-tulku-rinpoche/
LOCATION:Palpung Thubten Chöling\, 245 Sheafe Road\, Wappingers Falls\, NY\, 12590\, United States
CATEGORIES:Current Events,Ongoing Events
ATTACH;FMTTYPE=image/jpeg:https://palpungny.org/wp-content/uploads/2021/04/bardortulkurinpochevf2bg.jpg
END:VEVENT
BEGIN:VEVENT
DTSTART;TZID=America/New_York:20210411T140000
DTEND;TZID=America/New_York:20210411T150000
DTSTAMP:20260419T085354
CREATED:20210403T042231Z
LAST-MODIFIED:20210403T191906Z
UID:10001509-1618149600-1618153200@palpungny.org
SUMMARY:04/11/2021 -   Refreshing Our Practice Continued -  a Discussion Led by Lama Jamdron and Lama Chodron
DESCRIPTION:In light of concerns about the coronavirus outbreak\, to protect the well-being and safety of everyone\, Palpung Thubten Chöling Monastery remains closed to the public. \n  \nIn March we had a great interactive discussion of how to refresh our dharma practice\, bring it into our daily life\, and work with distraction and other inevitable challenges that arise for all of us. The group consensus was to continue our exploration of this rich topic going forward. In April\, Lama Jamdron and Lama Chodron will lead the discussion\, and we invite everyone at all levels of experience to join us to share your questions as well as your tips for maintaining a consistent\, inspiring practice in a world that benefits immensely from our engaged practice but doesn’t always support it. \n This session is being offered remotely on Zoom.  If you would like to participate please email Lama Lhadrun at: lhadrun@kagyu.com.
URL:https://palpungny.org/events/04-11-2021-refreshing-our-practice-continued-a-discussion-led-by-lama-jamdron-and-lama-chodron/
LOCATION:Palpung Thubten Chöling\, 245 Sheafe Road\, Wappingers Falls\, NY\, 12590\, United States
CATEGORIES:Current Events
ATTACH;FMTTYPE=image/jpeg:https://palpungny.org/wp-content/uploads/2021/04/rainbowsbig.jpg
END:VEVENT
END:VCALENDAR