BEGIN:VCALENDAR
VERSION:2.0
PRODID:-//Palpung New York - ECPv6.14.2//NONSGML v1.0//EN
CALSCALE:GREGORIAN
METHOD:PUBLISH
X-WR-CALNAME:Palpung New York
X-ORIGINAL-URL:https://palpungny.org
X-WR-CALDESC:Events for Palpung New York
REFRESH-INTERVAL;VALUE=DURATION:PT1H
X-Robots-Tag:noindex
X-PUBLISHED-TTL:PT1H
BEGIN:VTIMEZONE
TZID:America/New_York
BEGIN:DAYLIGHT
TZOFFSETFROM:-0500
TZOFFSETTO:-0400
TZNAME:EDT
DTSTART:20220313T070000
END:DAYLIGHT
BEGIN:STANDARD
TZOFFSETFROM:-0400
TZOFFSETTO:-0500
TZNAME:EST
DTSTART:20221106T060000
END:STANDARD
END:VTIMEZONE
BEGIN:VEVENT
DTSTART;TZID=America/New_York:20220212T100000
DTEND;TZID=America/New_York:20220212T110000
DTSTAMP:20260420T015653
CREATED:20220127T150905Z
LAST-MODIFIED:20231201T112444Z
UID:10001596-1644660000-1644663600@palpungny.org
SUMMARY:The Essence of the Bodhisattva Path - Online
DESCRIPTION:The Essence of the Bodhisattva Path\nWith Guru Vajradhara His Holiness Chamgon Kenting Tai Situpa\n  \n“When you have compassion\, a bodhisattva’s compassion for all sentient beings\, why you have bodhicitta for all sentient beings is because of your joy\, not because of your sorrow.” \n— Tai Situ Rinpoche\nRegister here \n  \nOverview: \n\n\nThis event is a rare opportunity to receive a teaching on The Way of the Bodhisattva directly from His Holiness Kenting Tai Situ Rinpoche\, the Supreme Head of the Palpung Monastic Seat and the living root guru of Mingyur Rinpoche. During the webinar\, Tai Situ Rinpoche will share with us the heart essence of this profound text\, bringing it alive so that we can make these teachings a lived experience. \nWhy Should I Attend? \nHow can you walk the bodhisattva path with joy\, confidence\, and openness? In this webinar\, Vajradhara Tai Situ Rinpoche will give an overview of the bodhisattva path and provide practical instructions on how to practice bodhichitta\, the aspiration to guide all sentient beings to realize their awakened nature\, and other practices within the bodhisattva’s training. \nWhat Will I Learn? \nIn this event you will learn: \n\nabout buddha nature\nabout the essence of the bodhisattva path\nskillful ways to train your mind in awareness\, compassion\, and wisdom\n\nWhat Is Included in the Program? \nThis event will include: \n\nteachings from Vajradhara Tai Situ Rinpoche on Shantideva’s profound text The Way of the Bodhisattva\n[Mingyur Rinpoche will attend the teachings as well.]\n\n\n\nRegister here
URL:https://palpungny.org/events/the-essence-of-the-bodhisattva-path/
LOCATION:Palpung Thubten Chöling\, 245 Sheafe Road\, Wappingers Falls\, NY\, 12590\, United States
CATEGORIES:Current Events
ATTACH;FMTTYPE=image/jpeg:https://palpungny.org/wp-content/uploads/2022/01/tsr_369x467.jpg
END:VEVENT
END:VCALENDAR