BEGIN:VCALENDAR
VERSION:2.0
PRODID:-//Palpung New York - ECPv6.14.2//NONSGML v1.0//EN
CALSCALE:GREGORIAN
METHOD:PUBLISH
X-WR-CALNAME:Palpung New York
X-ORIGINAL-URL:https://palpungny.org
X-WR-CALDESC:Events for Palpung New York
REFRESH-INTERVAL;VALUE=DURATION:PT1H
X-Robots-Tag:noindex
X-PUBLISHED-TTL:PT1H
BEGIN:VTIMEZONE
TZID:America/New_York
BEGIN:DAYLIGHT
TZOFFSETFROM:-0500
TZOFFSETTO:-0400
TZNAME:EDT
DTSTART:20220313T070000
END:DAYLIGHT
BEGIN:STANDARD
TZOFFSETFROM:-0400
TZOFFSETTO:-0500
TZNAME:EST
DTSTART:20221106T060000
END:STANDARD
END:VTIMEZONE
BEGIN:VEVENT
DTSTART;TZID=America/New_York:20221029T063000
DTEND;TZID=America/New_York:20221029T080000
DTSTAMP:20260420T232152
CREATED:20201115T015238Z
LAST-MODIFIED:20230401T161755Z
UID:10000958-1667025000-1667030400@palpungny.org
SUMMARY:Thousandfold Lamps & Offerings (Tong Chö)
DESCRIPTION:We are pleased to announce that the Maitreya Shrine Room is now open. All visitors are required to wear masks. Please note that accommodations remain closed to the public.  \n  \nA traditional Tong Chö of 1\,000 butter lamps\, 1\,000 bowls of saffron water and 300 bowls filled with rice\, incense and flowers is offered weekly\, accompanied by chanting of the Chenrezig practice. \n\n\n\n(Free of charge)
URL:https://palpungny.org/events/11-28-2020-thousandfold-lamps-offerings-tong-cho-2021-12-25-2022-05-21/2022-10-29/
LOCATION:Palpung Thubten Chöling\, 245 Sheafe Road\, Wappingers Falls\, NY\, 12590\, United States
CATEGORIES:Ongoing Events
END:VEVENT
BEGIN:VEVENT
DTSTART;TZID=America/New_York:20221029T100000
DTEND;TZID=America/New_York:20221029T120000
DTSTAMP:20260420T232152
CREATED:20210820T103310Z
LAST-MODIFIED:20230401T161903Z
UID:10000014-1667037600-1667044800@palpungny.org
SUMMARY:Kalu Rinpoche's Practice of Aspiration Prayers (Monlam Choga)\, followed by the Short Practice of the Peaceful & Wrathful Deities (Shitro)
DESCRIPTION:The monastery is now open. Visitors are required to wear masks. Please note that accommodations remain closed to the public. \n  \nPlease join us in the chanting of the Monlam Choga\, a practice of offering and aspiration prayers compiled by Dorje Chang Kalu Rinpoche. This is followed by the short liturgy of Shitro (Peaceful and Wrathful Deities)\, a profound practice from the cycle of teachings and meditations of the Tibetan Book of the Dead. We dedicate this practice to the deceased in order to purify negativities\, avert obstacles in the bardo\, and establish a connection with the deities that will ripen in future lives. \n  \nIf you would like to participate via Zoom please use our online event registration form.  To join the chanting please download Kalu Rinpoche’s Practice of Aspiration Prayers (Monlam Choga) \n  \nMonday\, Tuesday\, Wednesday and Thursday night classes will continue on Zoom only. To join us via Zoom please click here. \nPlease do not visit the monastery if you feel unwell and/or have a fever. \nAll visitors are required to wear a mask indoors. Children 12 years old and younger must be supervised. No pets please. \n  \n  \n 
URL:https://palpungny.org/events/chanting-of-the-monlam-choga-2022-05-28/2022-10-29/
LOCATION:Palpung Thubten Chöling\, 245 Sheafe Road\, Wappingers Falls\, NY\, 12590\, United States
CATEGORIES:Ongoing Events
END:VEVENT
BEGIN:VEVENT
DTSTART;TZID=America/New_York:20221029T140000
DTEND;TZID=America/New_York:20221030T153000
DTSTAMP:20260420T232152
CREATED:20221012T010124Z
LAST-MODIFIED:20221014T193342Z
UID:10001572-1667052000-1667143800@palpungny.org
SUMMARY:Intro to Tibetan Buddhism: Lama Norgyal Teaching in Richmond\, Virginia
DESCRIPTION:At the request of affiliated center Palpung Shenpen Tharchin\, Lama Norgyal will be teaching in Richmond\, Virginia\, Saturday and Sunday\, October 29-30. This will be a hybrid event\, with both in-person attendance in Richmond and livestreaming through Zoom. All are welcome to join the Richmond sangha for any or all of the teachings. \nWeekend Schedule: \nOctober 29\, Saturday (2:00 pm – 4:00 pm) | Path of Imagination: Working with Deity Practices\n\nOctober 30\, Sunday:\n11:00 am – 12:15 pm | Meditation Instruction and Practice\n1:30 pm – 3:30 pm | Foundations of Buddhist Practice (includes opportunity to formally take refuge)\n \n  \nAttend in person in Richmond or online via Zoom \nPlease join us in person at Unity of Richmond Church\, 800 Blanton Avenue\, Richmond VA 23221: or online at the Zoom link on this page. \n  \nA suggested donation of $10 per session is appreciated to help support the costs of hosting these teachings. No one will be turned away due to lack of funds. If you wish to donate online for the event\, please use the donate link on PST’s website. If you’d like to make a donation to Palpung Thubten Choling Monastery you can do that here. \n 
URL:https://palpungny.org/events/intro-to-tibetan-buddhism-lama-norgyal-teaching-in-richmond-virginia/
LOCATION:Unity of Richmond Church\, 800 Blanton Avenue\, Richmond\, VA\, 23221
CATEGORIES:Current Events
ATTACH;FMTTYPE=image/jpeg:https://palpungny.org/wp-content/uploads/2020/08/lamanorgyal-min-e1665537153968.jpg
ORGANIZER;CN="Palpung Shenpen Tharchin":MAILTO:pst@ekojirichmond.org
END:VEVENT
END:VCALENDAR