BEGIN:VCALENDAR
VERSION:2.0
PRODID:-//Palpung New York - ECPv6.14.2//NONSGML v1.0//EN
CALSCALE:GREGORIAN
METHOD:PUBLISH
X-WR-CALNAME:Palpung New York
X-ORIGINAL-URL:https://palpungny.org
X-WR-CALDESC:Events for Palpung New York
REFRESH-INTERVAL;VALUE=DURATION:PT1H
X-Robots-Tag:noindex
X-PUBLISHED-TTL:PT1H
BEGIN:VTIMEZONE
TZID:America/New_York
BEGIN:DAYLIGHT
TZOFFSETFROM:-0500
TZOFFSETTO:-0400
TZNAME:EDT
DTSTART:20220313T070000
END:DAYLIGHT
BEGIN:STANDARD
TZOFFSETFROM:-0400
TZOFFSETTO:-0500
TZNAME:EST
DTSTART:20221106T060000
END:STANDARD
END:VTIMEZONE
BEGIN:VEVENT
DTSTART;TZID=America/New_York:20221029T140000
DTEND;TZID=America/New_York:20221030T153000
DTSTAMP:20260419T183908
CREATED:20221012T010124Z
LAST-MODIFIED:20221014T193342Z
UID:10001572-1667052000-1667143800@palpungny.org
SUMMARY:Intro to Tibetan Buddhism: Lama Norgyal Teaching in Richmond\, Virginia
DESCRIPTION:At the request of affiliated center Palpung Shenpen Tharchin\, Lama Norgyal will be teaching in Richmond\, Virginia\, Saturday and Sunday\, October 29-30. This will be a hybrid event\, with both in-person attendance in Richmond and livestreaming through Zoom. All are welcome to join the Richmond sangha for any or all of the teachings. \nWeekend Schedule: \nOctober 29\, Saturday (2:00 pm – 4:00 pm) | Path of Imagination: Working with Deity Practices\n\nOctober 30\, Sunday:\n11:00 am – 12:15 pm | Meditation Instruction and Practice\n1:30 pm – 3:30 pm | Foundations of Buddhist Practice (includes opportunity to formally take refuge)\n \n  \nAttend in person in Richmond or online via Zoom \nPlease join us in person at Unity of Richmond Church\, 800 Blanton Avenue\, Richmond VA 23221: or online at the Zoom link on this page. \n  \nA suggested donation of $10 per session is appreciated to help support the costs of hosting these teachings. No one will be turned away due to lack of funds. If you wish to donate online for the event\, please use the donate link on PST’s website. If you’d like to make a donation to Palpung Thubten Choling Monastery you can do that here. \n 
URL:https://palpungny.org/events/intro-to-tibetan-buddhism-lama-norgyal-teaching-in-richmond-virginia/
LOCATION:Unity of Richmond Church\, 800 Blanton Avenue\, Richmond\, VA\, 23221
CATEGORIES:Current Events
ATTACH;FMTTYPE=image/jpeg:https://palpungny.org/wp-content/uploads/2020/08/lamanorgyal-min-e1665537153968.jpg
ORGANIZER;CN="Palpung Shenpen Tharchin":MAILTO:pst@ekojirichmond.org
END:VEVENT
END:VCALENDAR