BEGIN:VCALENDAR
VERSION:2.0
PRODID:-//Palpung New York - ECPv6.14.2//NONSGML v1.0//EN
CALSCALE:GREGORIAN
METHOD:PUBLISH
X-WR-CALNAME:Palpung New York
X-ORIGINAL-URL:https://palpungny.org
X-WR-CALDESC:Events for Palpung New York
REFRESH-INTERVAL;VALUE=DURATION:PT1H
X-Robots-Tag:noindex
X-PUBLISHED-TTL:PT1H
BEGIN:VTIMEZONE
TZID:America/New_York
BEGIN:DAYLIGHT
TZOFFSETFROM:-0500
TZOFFSETTO:-0400
TZNAME:EDT
DTSTART:20230312T070000
END:DAYLIGHT
BEGIN:STANDARD
TZOFFSETFROM:-0400
TZOFFSETTO:-0500
TZNAME:EST
DTSTART:20231105T060000
END:STANDARD
END:VTIMEZONE
BEGIN:VEVENT
DTSTART;TZID=America/New_York:20230506T100000
DTEND;TZID=America/New_York:20230507T160000
DTSTAMP:20260420T072139
CREATED:20230428T093531Z
LAST-MODIFIED:20230429T121753Z
UID:10002236-1683367200-1683475200@palpungny.org
SUMMARY:Chenrezig\, Bodhisattva of Compassion: Lama Zangmo Teaching in Richmond\, Virginia
DESCRIPTION:At the request of Richmond-based Palpung Shenpen Tharchin sangha\, Lama Zangmo of Palpung Thubten Choling will lead an in-person teaching and practice weekend May 6 & 7 on Chenrezig\, the Bodhisattva of compassion. Sessions will also be live-streamed via Zoom and recorded. \nFrom Lama Zangmo: “We will discuss and practice the Chenrezig sadhana and compassion itself in terms of view\, meditation\, and application. The view is our perspective and approach to the practice. Meditation includes deity meditation as a technique and how it relates to other dharma practices such as calm abiding and insight. Application relates the view and meditation to our daily lives.” \nPractice sessions will include teaching\, chanting (in Tibetan and English)\, mantra recitation and Q&A as needed. For those attending in person\, individual meetings with Lama Zangmo will be available upon request and as time allows. \n  \nMay 6 & 7 (Saturday & Sunday): 10:00 am – 12:00 pm & 2:00 pm – 4:00 pm \n  \nAttend in person in Richmond or online via Zoom \nPlease join us in person at the Coalition Theatre\n8 W. Broad Street in Richmond\, VA 23220\nor\ndigitally on Zoom here. \n  \nLama Zangmo is a practitioner in the Tibetan Buddhist tradition with over 20 years of experience. From 2008-2020 they completed three consecutive 3-year retreats at Palpung Thubten Choling monastery in upstate New York under the guidance of Lama Norlha Rinpoche and Kenting Tai Situ Rinpoche in both the Mahamudra and Dzogchen system.  They have joined the Richmond sangha virtually for several Thursday night sessions and Inclusivity Committee discussions. \n  \nIn order to support the teachings\, PST suggests a donation of $20 per session\, which can be made online at our website by clicking the donate button or in person via cash or check. Please make checks payable to PST. Our mailing address is: \n3411 Grove Ave\nRichmond\,Virginia\, 23221 \nNo one will be turned away for a lack of funds. \nIf you would like to additionally sponsor flowers\, tea\, meals\, or travel for Lama Zangmo\, please use the same link and enter in the memo what you would like to sponsor for the event. Thank you for your generosity! \nPlease email PST with any questions. \n  \n 
URL:https://palpungny.org/events/chenrezig-bodhisattva-of-compassion-lama-zangmo-teaching-in-richmond-virginia/
LOCATION:Coalition Theatre\, 8 W. Broad Street\, Richmond\, VA\, 23220
CATEGORIES:Current Events
ATTACH;FMTTYPE=image/jpeg:https://palpungny.org/wp-content/uploads/2023/04/chenrezig-recropped-2-min-e1682675499539.jpg
ORGANIZER;CN="Palpung Shenpen Tharchin":MAILTO:pst@ekojirichmond.org
END:VEVENT
END:VCALENDAR