BEGIN:VCALENDAR
VERSION:2.0
PRODID:-//Palpung New York - ECPv6.14.2//NONSGML v1.0//EN
CALSCALE:GREGORIAN
METHOD:PUBLISH
X-WR-CALNAME:Palpung New York
X-ORIGINAL-URL:https://palpungny.org
X-WR-CALDESC:Events for Palpung New York
REFRESH-INTERVAL;VALUE=DURATION:PT1H
X-Robots-Tag:noindex
X-PUBLISHED-TTL:PT1H
BEGIN:VTIMEZONE
TZID:America/New_York
BEGIN:DAYLIGHT
TZOFFSETFROM:-0500
TZOFFSETTO:-0400
TZNAME:EDT
DTSTART:20250309T070000
END:DAYLIGHT
BEGIN:STANDARD
TZOFFSETFROM:-0400
TZOFFSETTO:-0500
TZNAME:EST
DTSTART:20251102T060000
END:STANDARD
END:VTIMEZONE
BEGIN:VEVENT
DTSTART;TZID=America/New_York:20250815T180000
DTEND;TZID=America/New_York:20250817T160000
DTSTAMP:20260421T012803
CREATED:20250814T161435Z
LAST-MODIFIED:20250814T163223Z
UID:10004225-1755280800-1755446400@palpungny.org
SUMMARY:Teachings & Empowerments: Lama Tsering in Richmond\, Virginia
DESCRIPTION:At the request of affiliated center Palpung Shenpen Tharchin\, Lama Tsering will be teaching and giving empowerments in Richmond\, Virginia\,  August 15 – 17. This will be a hybrid event\, with both in-person attendance in Richmond and livestreaming through Zoom. All are welcome to join the Richmond sangha for any or all of the sessions. \nSchedule: \nAugust 15 (Friday) 6:00 pm – 8:00 pm | Growing Peace and Love through Meditation \nAugust 16 (Saturday)\n9:00 am – 11:00 pm | Teaching on Chenrezig\n2:00 pm – 4:00 pm | Chenrezig Empowerment\n \nAugust 17 (Sunday)\n9:00 am – 11:00 pm | Teaching on Green Tara\n2:00 pm – 4:00 pm | Green Tara Empowerment \n  \nClick here for complete details \n 
URL:https://palpungny.org/events/teachings-empowerments-lama-tsering-in-richmond-virginia/
LOCATION:Innerwork Center\, 213 Roseneath Road\, Richmond\, VA\, 23221\, United States
CATEGORIES:Current Events
ATTACH;FMTTYPE=image/jpeg:https://palpungny.org/wp-content/uploads/2025/08/lama-tsering-smiling-e1755189122445.jpg
ORGANIZER;CN="Palpung Shenpen Tharchin":MAILTO:pst@ekojirichmond.org
END:VEVENT
BEGIN:VEVENT
DTSTART;TZID=America/New_York:20250816T063000
DTEND;TZID=America/New_York:20250816T080000
DTSTAMP:20260421T012803
CREATED:20250601T134712Z
LAST-MODIFIED:20250601T134725Z
UID:10003960-1755325800-1755331200@palpungny.org
SUMMARY:Thousandfold Lamps & Offerings (Tong Chö)
DESCRIPTION:A traditional Tong Chö of 1\,000 butter lamps\, 1\,000 bowls of saffron water and 300 bowls filled with rice\, incense and flowers is offered weekly\, accompanied by chanting of the Chenrezig practice. \n\n\n  \nPlease do not visit the monastery if you feel unwell and/or have a fever. \nWe urge all program participants to take precautions against the ongoing risk of COVID through protection such as having up-to-date vaccinations\, wearing a good-quality mask indoors\, washing hands and maintaining physical distance. \nMasks and hand sanitizer will be available at all entryways. \nMany thanks to all of you for your support in keeping this event as safe as possible! \n\n\n  \n  \n  \n 
URL:https://palpungny.org/events/11-28-2020-thousandfold-lamps-offerings-tong-cho-2021-12-25-2022-05-21-35-2-26-2/2025-08-16/
LOCATION:Palpung Thubten Chöling\, 245 Sheafe Road\, Wappingers Falls\, NY\, 12590\, United States
CATEGORIES:Ongoing Events
END:VEVENT
BEGIN:VEVENT
DTSTART;TZID=America/New_York:20250816T100000
DTEND;TZID=America/New_York:20250816T120000
DTSTAMP:20260421T012803
CREATED:20240302T223638Z
LAST-MODIFIED:20240826T160646Z
UID:10002269-1755338400-1755345600@palpungny.org
SUMMARY:Kalu Rinpoche's Practice of Aspiration Prayers (Monlam Choga)\, followed by the Short Practice of the Peaceful & Wrathful Deities (Shitro)
DESCRIPTION:Please join us in the chanting of the Monlam Choga\, a practice of offering and aspiration prayers compiled by Dorje Chang Kalu Rinpoche. This is followed by the short liturgy of Shitro (Peaceful and Wrathful Deities)\, a profound practice from the cycle of teachings and meditations of the Tibetan Book of the Dead. We dedicate this practice to the deceased in order to purify negativities\, avert obstacles in the bardo\, and establish a connection with the deities that will ripen in future lives. \n\nThis event is also being offered on Zoom. If you would like to participate remotely\, please click here. To join the chanting please download Kalu Rinpoche’s Practice of Aspiration Prayers (Monlam Choga). \n  \nPlease do not visit the monastery if you feel unwell and/or have a fever. \nWe urge all program participants to take precautions against the ongoing risk of COVID through protection such as having up-to-date vaccinations\, wearing a good-quality mask indoors\, washing hands and maintaining physical distance. \nMasks and hand sanitizer will be available at all entryways. \nMany thanks to all of you for your support in keeping this event as safe as possible! \n  \n  \n 
URL:https://palpungny.org/events/chanting-of-the-monlam-choga-2022-05-28-19-20-14/2025-08-16/
LOCATION:Palpung Thubten Chöling\, 245 Sheafe Road\, Wappingers Falls\, NY\, 12590\, United States
CATEGORIES:Ongoing Events
END:VEVENT
END:VCALENDAR