BEGIN:VCALENDAR
VERSION:2.0
PRODID:-//Palpung New York - ECPv6.14.2//NONSGML v1.0//EN
CALSCALE:GREGORIAN
METHOD:PUBLISH
X-WR-CALNAME:Palpung New York
X-ORIGINAL-URL:https://palpungny.org
X-WR-CALDESC:Events for Palpung New York
REFRESH-INTERVAL;VALUE=DURATION:PT1H
X-Robots-Tag:noindex
X-PUBLISHED-TTL:PT1H
BEGIN:VTIMEZONE
TZID:America/New_York
BEGIN:DAYLIGHT
TZOFFSETFROM:-0500
TZOFFSETTO:-0400
TZNAME:EDT
DTSTART:20210314T070000
END:DAYLIGHT
BEGIN:STANDARD
TZOFFSETFROM:-0400
TZOFFSETTO:-0500
TZNAME:EST
DTSTART:20211107T060000
END:STANDARD
END:VTIMEZONE
BEGIN:VEVENT
DTSTART;TZID=America/New_York:20210307T140000
DTEND;TZID=America/New_York:20210307T150000
DTSTAMP:20260425T065519
CREATED:20210226T121217Z
LAST-MODIFIED:20210226T121454Z
UID:10000395-1615125600-1615129200@palpungny.org
SUMMARY:03/07/2021 -   Refreshing Our Practice\, a Discussion Led by Lama Chodron and Lama Jamdron
DESCRIPTION:In light of concerns about the coronavirus outbreak\, to protect the well-being and safety of everyone\, Palpung Thubten Chöling Monastery remains closed to the public. \n  \nAs we embark upon the New Year of the Iron Ox\, for our March discussion we’ll discuss how to keep our daily practice fresh and vital and maintain momentum on the path. How do we set up a consistent routine\, and when do we adapt it to changing circumstances? Does practice look the same for everyone? How do we deal with the challenges we encounter? What is the role of retreat in our practice arc\, and how to design a home retreat day? Lama Chodron and Lama Jamdron will lead the discussion\, and we look forward to hearing what works and doesn’t for others. All are welcome\, from beginners to three-year retreat grads. \n  \nThis session is being offered remotely on Zoom.  If you would like to participate please email Lama Lhadrun at: lhadrun@kagyu.com.
URL:https://palpungny.org/events/refreshing-our-practice-a-discussion-led-by-lama-chodron-and-lama-jamdron/
LOCATION:Palpung Thubten Chöling\, 245 Sheafe Road\, Wappingers Falls\, NY\, 12590\, United States
CATEGORIES:Current Events,Ongoing Events
ATTACH;FMTTYPE=image/jpeg:https://palpungny.org/wp-content/uploads/2020/11/rainbows_water_tsr_teaching_kathirogers-resized-min.jpg
END:VEVENT
BEGIN:VEVENT
DTSTART;TZID=America/New_York:20210320T093000
DTEND;TZID=America/New_York:20210321T123000
DTSTAMP:20260425T065519
CREATED:20210318T144003Z
LAST-MODIFIED:20210318T145739Z
UID:10001508-1616232600-1616329800@palpungny.org
SUMMARY:Amitabha Chanting  for Liberating the Deceased and Benefiting Beings
DESCRIPTION:In light of the coronavirus outbreak\, to protect the well-being and safety of everyone\, Palpung Thubten Chöling Monastery is temporarily closed to the public. \n  \nThe sangha of PTC will still be making prayers and offerings for our parents\, ancestors\, and the deceased through a special recitation of the Amitabha sadhana with tsok offerings and aspiration prayers for the well being of ourselves and all other beings\, especially those to whom we dedicate the practice by name\, both living and deceased. \nThe practice entitled ‘Jangchok’ will be included within the chanting of the Amitabha sadhana.  Jangchok is done for the benefit of the recently deceased to achieve liberation.  For persons who may have passed away a long time ago the Jangchok practice will still bring great blessings to the deceased and create the causes and conditions for the liberation of the person.  For the living\, it is said that once their karmic debtors are liberated through this practice\, the person will have less obstacles.  For all beings\, this practice will help to create favorable conditions and enhance their well-being. \nDuring the chanting Lama Tsering Dakpa will bless and burn all the names of the deceased to symbolize purification of their defilements\, obscurities and negative karma by the fire of wisdom\, ripening their merit to be reborn in Amitabha’s pureland of Dewachen. Also included will be a dedication of merit to all sponsors and their designated names for blessing. \nThis chanting session begins at 9:30am and is being offered on Zoom.  If you would like to participate please email Lama Lhadrun. \n  \nYou may donate any amount and provide us with the names for dedication (both living and deceased).  To make these dedications\, download the Amitabha Sadhana Dedication Form.
URL:https://palpungny.org/events/amitabha-chanting-for-liberating-the-deceased-and-benefiting-beings/
LOCATION:Palpung Thubten Chöling\, 245 Sheafe Road\, Wappingers Falls\, NY\, 12590\, United States
CATEGORIES:Current Events
ATTACH;FMTTYPE=image/jpeg:https://palpungny.org/wp-content/uploads/2021/03/amitabha_sukhavati-2.jpg
END:VEVENT
BEGIN:VEVENT
DTSTART;TZID=America/New_York:20210328T100000
DTEND;TZID=America/New_York:20210328T120000
DTSTAMP:20260425T065519
CREATED:20210226T121718Z
LAST-MODIFIED:20210314T031122Z
UID:10000159-1616925600-1616932800@palpungny.org
SUMMARY:Calling the Lama from Afar - Teaching and Chanting
DESCRIPTION:In light of the coronavirus outbreak\, to protect the well-being and safety of everyone\, Palpung Thubten Chöling Monastery is temporarily closed to the public. \nThis class is being offered remotely on Zoom.  If you would like to participate please email Lama Lhadrun. \nLama Norgyal will be teaching on and leading the sangha in the chanting of Calling the Lama from Afar. Written by the great master Jamgon Kongtrul Lodro Thaye\, this text is a powerful supplication to invoke the blessings of the lama and the great masters of all four Tibetan Buddhist lineages.  A combination of profound meditation instruction and plain-spoken reminders about the way we can delude ourselves on the path\, this melodiously sung devotional prayer is an inspiration for practitioners of all levels. \n10:00 am | Teaching on Calling the Lama from Afar\n11:00 am | Chanting of Calling the Lama from Afar \nClick here to download English text of Calling the Lama from Afar.
URL:https://palpungny.org/events/03-28-21-calling-the-lama-from-afar-teaching-and-chanting/
LOCATION:Palpung Thubten Chöling\, 245 Sheafe Road\, Wappingers Falls\, NY\, 12590\, United States
CATEGORIES:Current Events,Ongoing Events
ATTACH;FMTTYPE=image/jpeg:https://palpungny.org/wp-content/uploads/2021/03/calllamatile.jpg
END:VEVENT
END:VCALENDAR