BEGIN:VCALENDAR
VERSION:2.0
PRODID:-//Palpung New York - ECPv6.14.2//NONSGML v1.0//EN
CALSCALE:GREGORIAN
METHOD:PUBLISH
X-WR-CALNAME:Palpung New York
X-ORIGINAL-URL:https://palpungny.org
X-WR-CALDESC:Events for Palpung New York
REFRESH-INTERVAL;VALUE=DURATION:PT1H
X-Robots-Tag:noindex
X-PUBLISHED-TTL:PT1H
BEGIN:VTIMEZONE
TZID:America/New_York
BEGIN:DAYLIGHT
TZOFFSETFROM:-0500
TZOFFSETTO:-0400
TZNAME:EDT
DTSTART:20210314T070000
END:DAYLIGHT
BEGIN:STANDARD
TZOFFSETFROM:-0400
TZOFFSETTO:-0500
TZNAME:EST
DTSTART:20211107T060000
END:STANDARD
END:VTIMEZONE
BEGIN:VEVENT
DTSTART;TZID=America/New_York:20210402T080000
DTEND;TZID=America/New_York:20210509T170000
DTSTAMP:20260422T170656
CREATED:20210403T045856Z
LAST-MODIFIED:20210510T193805Z
UID:10001511-1617350400-1620579600@palpungny.org
SUMMARY:Memorial Prayers for Bardor Tulku Rinpoche
DESCRIPTION:All of us at PTC Monastery share in the loss and deep sadness of the family and students of Bardor Tulku Rinpoche. We are praying that Rinpoche traverse the bhumis and paths without obstacle and swiftly return for the benefit of sentient beings. \nThe monastery will be offering 100 butter lamps a week for seven weeks dedicated to Rinpoche\, and are praying for Rinpoche’s family and students to have happiness\, long life\, and to enjoy an abundance of dharma.
URL:https://palpungny.org/events/memorial-prayers-for-bardor-tulku-rinpoche/
LOCATION:Palpung Thubten Chöling\, 245 Sheafe Road\, Wappingers Falls\, NY\, 12590\, United States
CATEGORIES:Current Events,Ongoing Events
ATTACH;FMTTYPE=image/jpeg:https://palpungny.org/wp-content/uploads/2021/04/bardortulkurinpochevf2bg.jpg
END:VEVENT
BEGIN:VEVENT
DTSTART;TZID=America/New_York:20210509T063000
DTEND;TZID=America/New_York:20210509T170000
DTSTAMP:20260422T170656
CREATED:20210403T195959Z
LAST-MODIFIED:20210405T152923Z
UID:10001512-1620541800-1620579600@palpungny.org
SUMMARY:Commemoration of Dorje Chang Kalu Rinpoche’s Parinirvana and Mother's Day
DESCRIPTION:In light of the coronavirus outbreak\, to protect the well-being and safety of everyone\, Palpung Thubten Chöling Monastery remains temporarily closed to the public. \n  \nThe resident sangha of PTC will be commemorating the anniversary of our root lama Dorje Chang Kalu Rinpoche‘s parinirvana — the day he left his body and entered the Pure Realms. \nAnd to honor all mothers (past\, present\, and future!) we will be chanting the short practice of Green Tara\, who is often referred to as “The Mother of Liberation\,” and is known for her swift activity in dispelling fears\, obstacles and illness. The merit accumulated through participating in this inspiring practice will be dedicated to the countless beings who have been our mothers since beginningless time. \n  \nSchedule of events: \n6:30am | Thousandfold Lamp Offering (Tong Chö) \nA traditional Tong Chö of 1\,000 butter lamps\, 1\,000 bowls of saffron water and 300 bowls filled with rice\, incense and flowers is offered weekly\, accompanied by chanting of the Chenrezig practice. \n  \nThe next chanting sessions are being offered remotely on Zoom. If you would like to participate please email Lama Lhadrun. \n  \n10:00am | Kalu Rinpoche’s Practice of Aspiration Prayers (Monlam Choga)\, followed by the Short Practice of the Peaceful & Wrathful Deities (Shitro) \nChanting of the Monlam Choga\, a practice of offering and aspiration prayers compiled by Dorje Chang Kalu Rinpoche. This is followed by the short liturgy of Shitro (Peaceful and Wrathful Deities)\, a profound practice from the cycle of teachings and meditations of the Tibetan Book of the Dead. We dedicate this practice to the deceased in order to purify negativities\, avert obstacles in the bardo\, and establish a connection with the deities that will ripen in future lives. \n  \n1:30 pm | Chanting of Green Tara  \nAlthough the monastery is closed to the public\, there are many ways to share in the merit of these activities through sponsoring the chanting\, the tea served during the chanting\, meals\, and the offering of butter lamps. Be sure to include a prayer with your donation which will be read aloud to the assembly.  \nYou may make your donations on-line or simply mail your tax-deductible contribution to: \nPalpung Thubten Chöling\nAttn: Office\n245 Sheafe Road\, Wappingers Falls\, NY 12590. \nPlease make checks payable to Palpung Thubten Choling or PTC. For credit card payments\, fax your credit card number (VISA or MasterCard only)\, along with the expiration date and signature and the amount you would like to charge to (845) 297-5761. For your protection\, please do not email your credit card information.
URL:https://palpungny.org/events/commemoration-of-dorje-chang-kalu-rinpoches-parinirvana-and-mothers-day/
LOCATION:Palpung Thubten Chöling\, 245 Sheafe Road\, Wappingers Falls\, NY\, 12590\, United States
CATEGORIES:Current Events
ATTACH;FMTTYPE=image/jpeg:https://palpungny.org/wp-content/uploads/2021/04/tara-kalur-min.jpg
END:VEVENT
BEGIN:VEVENT
DTSTART;TZID=America/New_York:20210511T080000
DTEND;TZID=America/New_York:20210527T173000
DTSTAMP:20260422T170656
CREATED:20210409T134522Z
LAST-MODIFIED:20210512T020709Z
UID:10001513-1620720000-1622136600@palpungny.org
SUMMARY:Nyungne Retreat - The Fasting Ritual and Meditation of Thousand-Armed Chenrezig
DESCRIPTION:In light of the coronavirus outbreak\, to protect the well-being and safety of everyone\, Palpung Thubten Chöling Monastery remains closed to the public.  \n  \nThe resident sangha of PTC will be practicing 8 consecutive sets of Nyungne (the Fasting Ritual and Meditation of Thousand-Armed Chenrezig). This retreat will be held during the auspicious month of Sakadawa\, the month commemorating the birth\, enlightenment and parinirvana of Shakyamuni Buddha. It is said that\, during this time\, the merit accumulated through performing virtuous activity is multiplied 100\,000 times. \nThe Nyungne practice is a profound kriya tantra meditation ritual based on loving-kindness and compassion in the form of Thousand-Armed Chenrezig.  The practice involves maintaining strict vows and meditating while reciting mantras and prayers\, and performing prostrations and visualizations. Undertaken in sets of two days\, the first day includes one vegetarian meal at noon\, drinking water throughout the day as needed. The second day is a complete fast performed in noble silence. The Nyungne is renowned as a superior means to purify negative karma and accumulate great merit. \nChenrezig himself declared that completing even one Nyungne prevents rebirth in the lower realms\, and the practice of eight consecutive Nyungne leads to birth in Amitabha’s pure land of Dewachen. \n  \nThe dates for each set are as follows: \nSet 1   Begins May 11 (Tuesday) at 5:30 am.  Ends May 13 (Thursday) about 6:00 am.\nSet 2   Begins May 13 (Thursday) at 5:00 am.  Ends May 15 (Saturday) about 6:00 am.\nSet 3   Begins May 15 (Saturday at 5:00 am.  Ends May 17 (Monday) about 6:00 am.\nSet 4   Begins May 17 (Monday) at 5:00 am.  Ends May 19 (Wednesday) about 6:00 am.\nSet 5   Begins May 19 (Wednesday) at 5:00 am.  Ends May 21 (Friday) about 6:00 am.\nSet 6   Begins May 21 (Friday) at 5:00 am.  Ends May 23 (Sunday) about 6:00 am.\nSet 7   Begins May 23 (Sunday) at 5:00 am.  Ends May 25 (Tuesday) about 6:00 am.\nSet 8   Begins May 25 (Tuesday) at 5:00 am.  Ends May 27 (Thursday) about 9:30 am.\n\nAlthough the monastery is closed to the public\, there are many ways to share in the merit of this retreat through sponsoring the chanting\, meals and the tea served during the chanting on non fasting days. Be sure to include a prayer with your donation which will be read aloud to the assembly.  \n  \nYou may make your donations on-line or simply mail your tax-deductible contribution to: \nPalpung Thubten Chöling\nAttn: Office\n245 Sheafe Road\, Wappingers Falls\, NY 12590. \n  \nPlease make checks payable to Palpung Thubten Choling or PTC. For credit card payments\, fax your credit card number (VISA or MasterCard only)\, along with the expiration date and signature and the amount you would like to charge to (845) 297-5761. For your protection\, please do not email your credit card information.
URL:https://palpungny.org/events/nyungne-retreat-the-fasting-ritual-and-meditation-of-thousand-armed-chenrezig/
LOCATION:Palpung Thubten Chöling\, 245 Sheafe Road\, Wappingers Falls\, NY\, 12590\, United States
CATEGORIES:Current Events
ATTACH;FMTTYPE=image/jpeg:https://palpungny.org/wp-content/uploads/2021/05/chenrezigny480.jpg
END:VEVENT
END:VCALENDAR