BEGIN:VCALENDAR
VERSION:2.0
PRODID:-//Palpung New York - ECPv6.14.2//NONSGML v1.0//EN
CALSCALE:GREGORIAN
METHOD:PUBLISH
X-WR-CALNAME:Palpung New York
X-ORIGINAL-URL:https://palpungny.org
X-WR-CALDESC:Events for Palpung New York
REFRESH-INTERVAL;VALUE=DURATION:PT1H
X-Robots-Tag:noindex
X-PUBLISHED-TTL:PT1H
BEGIN:VTIMEZONE
TZID:America/New_York
BEGIN:DAYLIGHT
TZOFFSETFROM:-0500
TZOFFSETTO:-0400
TZNAME:EDT
DTSTART:20230312T070000
END:DAYLIGHT
BEGIN:STANDARD
TZOFFSETFROM:-0400
TZOFFSETTO:-0500
TZNAME:EST
DTSTART:20231105T060000
END:STANDARD
END:VTIMEZONE
BEGIN:VEVENT
DTSTART;TZID=America/New_York:20230217T083000
DTEND;TZID=America/New_York:20230219T203000
DTSTAMP:20260420T192421
CREATED:20230127T191606Z
LAST-MODIFIED:20230219T191629Z
UID:10001713-1676622600-1676838600@palpungny.org
SUMMARY:Chanting to Avert Obstacles and Bring Auspicious Conditions
DESCRIPTION:The PTC Sangha will be chanting practices for averting obstacles\, sickness\, war\, and disasters\, bringing all auspicious conditions for the coming year.  \n  \nPlease do not visit the monastery if you feel unwell and/or have a fever.  We look forward to your visit when you feel better. \n  \nTo join us via Zoom please click here. \n  \nFebruary 17 (Friday) \n8:30 am | Mahakala Chanting (Tsendring\, the extended version of the Protector Bernachen practice) \n  \nFebruary 18 (Saturday) \n8:30 am | Mahakala Chanting (Tsendring\, the extended version of the Protector Bernachen practice) \n  \nFebruary 19 (Sunday) \n8:30 am | Mahakala Chanting (Tsendring\, the extended version of the Protector Bernachen practice)\nInserted inside Mahakala chanting | Ritual to Reverse Impending Death (Chiblu)\n4:30 pm | Chanting of Calling the Lama From Afar (Lama Gyangbu) \nOn this fifth anniversary of Lama Norlha Rinpoche’s parinirvana\, in remembrance of his kindness we will chant a devotional guru yoga prayer\, Lama Gyangbu\, (Calling the Lama From Afar). Written by the great master Jamgon Kongtrul Lodro Thaye\, this text is a powerful supplication to invoke the blessings of the lama and the great masters of all four Tibetan Buddhist lineages. \nLama Norlha Rinpoche In Memoriam 1938 – 2018 \n  \nFor those who wish to sponsor the chanting\, donations can be made towards meals\, fire offering ceremonies\, or the tea served during the chanting. General contributions towards these special practices are also welcome. Be sure to include a prayer with your donation which will be read aloud to the assembly. \nIt is customary to make “changbu” (squeezing a small slice of bread in your left hand\, leaving imprints) to place in the Chiblu box. You may mail a changbu\, along with pieces of fingernails\, stands of hair and loose change to be placed inside the Chiblu box. YOUR CHANGBU MUST BE RECEIVED BEFORE FEBRUARY 14th. \nYou may donate any amount and provide us with the names for dedication (both living and deceased).  To make these dedications\, download the donation form in English / Chinese. \nYou may make your donations on-line or simply mail your tax-deductible contribution to: \nPalpung Thubten Chöling\nAttn: Office\n245 Sheafe Road\, Wappingers Falls\, NY 12590. \nPlease make checks payable to Palpung Thubten Choling or PTC. For credit card payments\, fax your credit card number (VISA or MasterCard only)\, along with the expiration date and signature and the amount you would like to charge to (845) 297-5761. For your protection\, please do not email your credit card information. \nAs we are not able to check email during chanting events\, please send your prayer request and sponsorship information 48 hours before the first day of chanting to guarantee that we receive it in time to announce your prayer. If you are not able to do that\, please leave a short but clear message of your prayer on  845-297-2500  and we will do our best to have your prayer announced. \n  \n\n消災除障如意吉祥法會\n2 月 17 日上午 8:30 – 2 月 19 日下午 8:30 \n法林寺將舉行法會，平息災障、疫情戰爭，為來年帶來吉祥緣起。 \n  \n如果您感到不適和/或發燒，請勿前來本寺。請您在康復後，才再光臨本寺。 \n線上參加請點擊此處 \n  \n2月17日（星期五）\n上午 8:30 | 大黑天除障法（ 加長儀軌） \n\n2月18日（星期六）\n上午 8:30 |大黑天除障法（ 加長儀軌） \n\n2月19日（星期日）\n上午 8:30 | 大黑天除障法（ 加長儀軌）\n修大黑天時加插“除佈”法，此法是囘遮死神、祛除壽障、延壽的密法。\n時逢喇嘛諾那仁波切圓寂五週年。銘記他的恩典，而修誦《悲心遙呼上師祈請文》。此文由偉大的蔣貢康楚仁波切所著，是所有藏傳佛教祈求上師加持的強力祈請文。 \n  \n“除佈” “changbu”：左手捏一小片麵包，留下指印。連同幾片指甲碎片、一撮頭髮和零錢一起郵寄。除佈必須在 2 月 14 日之前收到。 \n法會免費參加。如蒙樂捐，请點擊此處  \n  \n  \n 
URL:https://palpungny.org/events/chanting-to-avert-obstacles-and-bring-auspicious-conditions/
LOCATION:Palpung Thubten Chöling\, 245 Sheafe Road\, Wappingers Falls\, NY\, 12590\, United States
CATEGORIES:Current Events
ATTACH;FMTTYPE=image/jpeg:https://palpungny.org/wp-content/uploads/2023/01/2-armed-mahakala-690x900-min-e1674831352834.jpg
END:VEVENT
BEGIN:VEVENT
DTSTART;TZID=America/New_York:20230221T060000
DTEND;TZID=America/New_York:20230221T130000
DTSTAMP:20260420T192421
CREATED:20230217T162753Z
LAST-MODIFIED:20240118T130004Z
UID:10001714-1676959200-1676984400@palpungny.org
SUMMARY:Losar (Tibetan New Year)
DESCRIPTION:  \nPlease join us in celebration of the Tibetan New Year of the Water Rabbit! \n  \nFebruary 21 (Tuesday)| Losar Day – First Day of the Tibetan New Year \n6:00 am | Welcome in the New Year with the traditional playing of instruments\n6:30 am | Morning Fire Offering (Sang)\n9:00 am | Lighting of 500 Butterlamps\n9:30 am | Prayers for long life and auspicious conditions for the new year.\n12:00 noon | Lunch \n  \nPlease do not visit the monastery if you feel unwell and/or have a fever.  We look forward to your visit when you feel better. \n  \nTo join us via Zoom please click here. \n  \nFor those who wish to sponsor the chanting\, donations can be made towards meals\, fire offering ceremonies\, or the tea served during the chanting. General contributions towards these special practices are also welcome. Be sure to include a prayer with your donation which will be read aloud to the assembly. \n  \nYou may make your donations on-line or simply mail your tax-deductible contribution to: \nPalpung Thubten Chöling\nAttn: Office\n245 Sheafe Road\, Wappingers Falls\, NY 12590. \nPlease make checks payable to Palpung Thubten Choling or PTC. \nAs we are not able to check email during chanting events\, please send your prayer request and sponsorship information 48 hours before the first day of chanting to guarantee that we receive it in time to announce your prayer. If you are not able to do that\, please leave a short but clear message of your prayer on  845-297-2500  and we will do our best to have your prayer announced. \n  \n  \n迎藏曆新年法會\n\n2月21日 (週二) 6:00am -1:00pm \n\n歡迎大家蒞臨藏曆新年法會 \n  \n新年第一天\n6:00am | 迎新年法會開始\n6:30am | 火供“桑”消災除障\n9:00am | 供酥油燈5百盞\n9:30am | 祈禱健康長壽、國泰民安、新年如意吉祥。\n12:00pm| 午宴 \n如果您感到不適和/或發燒，請勿前來本寺。請您在康復後，才再光臨本寺。 \n  \n線上參加請點擊此處 \n法會免費參加。如蒙樂捐，请點擊此處  \n 
URL:https://palpungny.org/events/losar-tibetan-new-year-2023-2/
LOCATION:Palpung Thubten Chöling\, 245 Sheafe Road\, Wappingers Falls\, NY\, 12590\, United States
CATEGORIES:Current Events
ATTACH;FMTTYPE=image/jpeg:https://palpungny.org/wp-content/uploads/2023/02/losar2023-rabbit-revisedlayout-25-min-1-e1676812969658.jpg
END:VEVENT
BEGIN:VEVENT
DTSTART;TZID=America/New_York:20230224T080000
DTEND;TZID=America/New_York:20230226T130000
DTSTAMP:20260420T192421
CREATED:20230125T181157Z
LAST-MODIFIED:20230217T210853Z
UID:10001711-1677225600-1677416400@palpungny.org
SUMMARY:Three-Day Celebration of the 70th Birthday of Guru Vajradhara His Holiness Chamgon Kenting Tai Situpa
DESCRIPTION:Join us for a three-day celebration of the 70th birthday of Guru Vajradhara His Holiness Chamgon Kenting Tai Situpa. \nThis event is also being offered on Zoom. If you would like to participate\, please click here. \nPlease do not visit the monastery if you feel unwell and/or have a fever.  We look forward to your visit when you feel better.  \n  \n \n  \nThe PTC sangha will be chanting a special longevity practice\, Tsedrup Sangdu\, dedicated to the long life and good health of our precious Guru Vajradhara His Holiness Chamgon Kenting Tai Situpa\, for his Dharma activity and removal of all obstacles. This sadhana is a terma (hidden teaching) revealed by the great Tertön (treasure revealer) Ratna Lingpa. \nThe schedule is as follows: \nFebruary 24 (Friday) \n8:00 am | Amitayus (Tsedrup Sangdu) long life practice\n12:00 pm | Lunch\n1:30 pm | Amitayus (Tsedrup Sangdu) long life practice \nFebruary 25 (Saturday) \n8:00 am | Amitayus (Tsedrup Sangdu) long life practice\n12:00 pm | Lunch\n1:30 pm | Amitayus (Tsedrup Sangdu) long life practice \nFebruary 26 (Sunday) \n6:00 am | Amitayus (Tsedrup Sangdu) long life practice\n9:30 am | Commencement of Birthday Celebration\nPrayers for long life and auspicious conditions\, including the prayer to the Sixteen Arhats. An offering of a Ku Sung Tuk ceremony (the symbols of enlightened body\, speech and mind) will follow the chanting. The assembly can offer katas following the Ku Sung Tuk.\nCompletion of  Amitayus (Tsedrup Sangdu) long life practice\n1:00 pm | Lunch \nThe Amitayus texts will be Tibetan language only. Guests are encouraged to recite the Amitayus mantra for His Holiness Tai Situpa’s long life. \nOM GURU AYU SIDDHI HUNG HRI\nAMARANI DZIWENTIYE SOHA \n  \nThere are many ways to share in the merit of these activities through sponsoring lunch\, feast ceremony (Tsok)\, tea served during the chanting\, and making offerings to the  Sangha. Be sure to include a prayer with your donation which will be read aloud to the assembly. \nYou may also simply mail your tax-deductible contribution to:\nPalpung Thubten Chöling\nAttn: Office\n245 Sheafe Road\, Wappingers Falls\, NY 12590. \nPlease make checks payable to Palpung Thubten Choling or PTC. For credit card payments\, fax your credit card number (VISA or MasterCard only)\, along with the expiration date and signature and the amount you would like to charge to (845) 297-5761. For your protection\, please do not email your credit card information. \n\nAs we are not able to check email during chanting events\, please send your prayer request and sponsorship information 48 hours before the first day of chanting to guarantee that we receive it in time to announce your prayer. If you are not able to do that\, please leave a short but clear message of your prayer on 845-297-2500 and we will do our best to have your prayer announced. \n\nUntil we have accommodated visiting lamas and staff we are unable to accept general overnight accommodations for this event. We will update if rooms become available. Thank you for your understanding. \n  \n金剛總持廣定大司徒仁波切70歲華誕慶典 \n 2月24日上午8:00 -2月26日下午1:00 \n請大家參加三天的大司徒仁波切70歲華誕慶典 \n  \n線上參加請點擊此處 \n如果您感到不適和/或發燒，請勿前來本寺。\n請您在康復後，才再光臨本寺。 \n  \n常住將修持一特殊的長壽佛法門，即《些珠 桑都》，祈願尊貴的大司徒仁波切長壽健康，佛行事業順利，障礙去除。此儀軌是偉大的伏藏師寶藏林巴挖掘的伏藏法。 \n  \n時程如下: \n2月24日（星期五）及2月25日（星期六）\n上午 8:00 | 長壽佛法\n中午 12:00 | 午餐\n下午 1:30 | 長壽佛法 \n  \n2月26日（星期日）\n早上 6:00 | 長壽佛法\n上午 9:30 | 生日慶典開始\n修長壽吉祥法門，包括《十六阿羅漢祈請文》，獻供聖身、語、意的象徵物，之後大家獻哈達。圓滿長壽佛修法\n下午 1:00 | 午餐 \n  \n長壽佛法本只有藏文。鼓勵大家持誦長壽佛咒語，以祈求法王大司徒長壽。 \n嗡 咕嚕 阿玉 悉地 吽 舍\n啊玛啦呢 则万迪耶 所哈 \n  \n各位可隨喜贊助誦經期間供應的火供、誦經期間供應的茶水、吉祥米飯，而共享法會的功德。 \n\n如蒙樂捐，请點擊此處 \n  \n  \n  \n 
URL:https://palpungny.org/events/three-day-celebration-of-the-70th-birthday-of-guru-vajradhara-his-holiness-chamgon-kenting-tai-situpa/
LOCATION:Palpung Thubten Chöling\, 245 Sheafe Road\, Wappingers Falls\, NY\, 12590\, United States
CATEGORIES:Current Events
ATTACH;FMTTYPE=image/jpeg:https://palpungny.org/wp-content/uploads/2023/02/tsr-bday-announcement-min-e1676668059563.jpeg
END:VEVENT
END:VCALENDAR