BEGIN:VCALENDAR
VERSION:2.0
PRODID:-//Palpung New York - ECPv6.14.2//NONSGML v1.0//EN
CALSCALE:GREGORIAN
METHOD:PUBLISH
X-WR-CALNAME:Palpung New York
X-ORIGINAL-URL:https://palpungny.org
X-WR-CALDESC:Events for Palpung New York
REFRESH-INTERVAL;VALUE=DURATION:PT1H
X-Robots-Tag:noindex
X-PUBLISHED-TTL:PT1H
BEGIN:VTIMEZONE
TZID:America/New_York
BEGIN:DAYLIGHT
TZOFFSETFROM:-0500
TZOFFSETTO:-0400
TZNAME:EDT
DTSTART:20250309T070000
END:DAYLIGHT
BEGIN:STANDARD
TZOFFSETFROM:-0400
TZOFFSETTO:-0500
TZNAME:EST
DTSTART:20251102T060000
END:STANDARD
END:VTIMEZONE
BEGIN:VEVENT
DTSTART;TZID=America/New_York:20250308T093000
DTEND;TZID=America/New_York:20250308T130000
DTSTAMP:20260419T191827
CREATED:20250109T154929Z
LAST-MODIFIED:20250227T120911Z
UID:10003570-1741426200-1741438800@palpungny.org
SUMMARY:Celebration of the 72nd Birthday of Guru Vajradhara the 12th Chamgon Kenting Tai Situpa
DESCRIPTION:All are invited to join us as we celebrate the 72nd birthday of Guru Vajradhara the 12th Chamgon Kenting Tai Situpa. \nJoin us in person and on Zoom.   To join remotely\, please click here. \n  \n9:30 am | Prayers for long life and auspicious conditions \n\nSpecial morning purification fire ceremony (Gelek Trinpung)\nPrayer to the Sixteen Arhats\nOffering of a Ku Sung Tuk ceremony (the symbols of enlightened body\, speech and mind). The assembly can offer katas following the Ku Sung Tuk.\nBirthday cake for all!\n\n12 noon | Vegetarian Lunch \n  \nPlease do not visit the monastery if you feel unwell and/or have a fever. \nWe urge all program participants to take precautions against the ongoing risk of COVID through wearing masks and washing hands. \nMasks and hand sanitizer will be available at all entryways. \nMany thanks to all of you for your support in keeping this event as safe as possible! \n  \n  \n慶祝金剛總持廣定大司徒仁波切72歲華誕 \n  \n3月8日（周六）上午9:30 -下午1:00\n法林寺盛邀大家參加\n可親自或線上參加。線上請擊此 \n  \n9:30 | 長壽吉祥祈願文 \n·      特別的早晨淨化火供\n·      十六阿羅漢祈請文\n·      獻供聖身、語、意的象徵，隨後大衆獻哈達\n·      享用生日蛋糕！ \n12:00 | 共進素宴 \n  \n若您感到不適和/或發燒，請勿造訪本寺！ \n本寺敦促所有參與者小心防範流行病毒，請戴口罩並洗手。 \n所有入口處均提供口罩和潔手液。 \n非常感謝大家的支持，確保本次活動安全！ \n  \n  \n  \n 
URL:https://palpungny.org/events/celebration-of-the-72nd-birthday-of-guru-vajradhara-the-12th-chamgon-kenting-tai-situpa/
LOCATION:Palpung Thubten Chöling\, 245 Sheafe Road\, Wappingers Falls\, NY\, 12590\, United States
CATEGORIES:Current Events,Past Events
ATTACH;FMTTYPE=image/jpeg:https://palpungny.org/wp-content/uploads/2025/02/tsrbirthday2025-cropped-1-e1740658060330.jpeg
END:VEVENT
BEGIN:VEVENT
DTSTART;TZID=America/New_York:20250314T063000
DTEND;TZID=America/New_York:20250314T160000
DTSTAMP:20260419T191827
CREATED:20250109T232403Z
LAST-MODIFIED:20250109T234544Z
UID:10003571-1741933800-1741968000@palpungny.org
SUMMARY:Commemoration of Chotrul Duchen and the Anniversary of Milarepa
DESCRIPTION:The anniversary of Milarepa auspiciously coincides with Chotrul Duchen\, the ‘Festival of Miracles’ which occurs on the full moon of the first Tibetan month\, and commemorates the Buddha performing fifteen days of miracles in order to inspire devotion in his disciples. On Chotrul Duchen\, all positive and negative actions are said to be multiplied 10 million times. \nMilarepa is the most beloved yogi and poet of Tibet and one of the forefathers of the Kagyu lineage revered for his inspirational life story and profound songs of realization. The Guru Yoga of Milarepa is an essential practice of the Kagyu lineage in which the transmission of devotion becomes the basis of Mahamudra. \n  \n6:30 am | Thousandfold Lamp Offering (Tong Chö)\nA traditional Tong Chö of 1\,000 butter lamps\, 1\,000 bowls of saffron water and 300 bowls filled with rice\, incense and flowers accompanied by chanting of the Chenrezig practice. \nThe following sessions will also be available on Zoom. To join remotely\, please click here. \n10:00 am | Kalu Rinpoche’s Practice of Aspiration Prayers (Monlam Choga)\, followed by the Short Practice of the Peaceful & Wrathful Deities (Shitro)\nChanting of the Monlam Choga\, a practice of offering and aspiration prayers compiled by Dorje Chang Kalu Rinpoche. This is followed by the short liturgy of Shitro (Peaceful and Wrathful Deities)\, a profound practice from the cycle of teachings and meditations of the Tibetan Book of the Dead. We dedicate this practice to the deceased in order to purify negativities\, avert obstacles in the bardo\, and establish a connection with the deities that will ripen in future lives \n1:30 pm | Chanting of Milarepa Practice with Feast Offering (Tsok) \n  \nThere are many ways to share in the merit of these activities through sponsoring the chanting\, the tea served during the chanting\, meals\, and the offering of butter lamps. Be sure to include a prayer with your donation which will be read aloud to the assembly.  \nYou may also simply mail your tax-deductible contribution to: \nPalpung Thubten Chöling\nAttn: Office\n245 Sheafe Road\, Wappingers Falls\, NY 12590. \nPlease make checks payable to Palpung Thubten Choling or PTC. \n\n\n  \nPlease do not visit the monastery if you feel unwell and/or have a fever. \nWe urge all program participants to take precautions against the ongoing risk of COVID through wearing masks indoors and washing hands. \nMasks and hand sanitizer will be available at all entryways. \nMany thanks to all of you for your support in keeping this event as safe as possible! \n\n\n\n 
URL:https://palpungny.org/events/commemoration-of-chotrul-duchen-and-the-anniversary-of-milarepa-2/
LOCATION:Palpung Thubten Chöling\, 245 Sheafe Road\, Wappingers Falls\, NY\, 12590\, United States
CATEGORIES:Current Events
ATTACH;FMTTYPE=image/jpeg:https://palpungny.org/wp-content/uploads/2025/01/chotrulduchen-sharpened-1-e1736465019708.jpeg
END:VEVENT
BEGIN:VEVENT
DTSTART;TZID=America/New_York:20250316T140000
DTEND;TZID=America/New_York:20250316T153000
DTSTAMP:20260419T191827
CREATED:20250217T170854Z
LAST-MODIFIED:20250217T170854Z
UID:10003593-1742133600-1742139000@palpungny.org
SUMMARY:Songs of Sahle Ö
DESCRIPTION:Lama Depa\, a resident of PTC who has completed two cycles of the three-year retreat\, will continue to share the inspiring stories and songs of the four close female disciples of the great yogi and lineage holder\, Jetsun Milarepa. In this class we will continue to study the story of Sahle Ö (Clear or Vivid Light). \n\n\nThis session is being offered in person and on Zoom. If you would like to participate remotely\, please use our online event registration form. \nThere is no charge for attending this teaching – donations are welcome. \n\n  \n\nPlease do not visit the monastery if you feel unwell and/or have a fever. \nWe urge all program participants to take precautions against the ongoing risk of COVID through wearing masks and washing hands. \nMasks and hand sanitizer will be available at all entryways. \nMany thanks to all of you for your support in keeping this event as safe as possible! \n  \n 
URL:https://palpungny.org/events/songs-of-sahle-o-3/
LOCATION:Palpung Thubten Chöling\, 245 Sheafe Road\, Wappingers Falls\, NY\, 12590\, United States
CATEGORIES:Current Events
ATTACH;FMTTYPE=image/jpeg:https://palpungny.org/wp-content/uploads/2024/09/milarepawithfemaledisciples-1-scaled-e1726841858746.jpeg
END:VEVENT
BEGIN:VEVENT
DTSTART;TZID=America/New_York:20250323T100000
DTEND;TZID=America/New_York:20250323T120000
DTSTAMP:20260419T191827
CREATED:20250218T141216Z
LAST-MODIFIED:20250305T220322Z
UID:10003496-1742724000-1742731200@palpungny.org
SUMMARY:Teaching on the Short Prayer to Vajradhara
DESCRIPTION:Lama Lekshe Dorje will give a teaching on the Short Prayer to Vajradhara. This profound prayer to the Kagyu lineage masters was composed in a clear state of meditation by Bengar Jampal Zangpo\, and contains pith instructions for the Vajrayana path from beginning to end. To follow along in the text\, please click here. \nLama Lekshe Dorje\, a resident of PTC\, has completed two cycles of the three-year retreat. \nThese teaching sessions are being offered in person and on Zoom. If you would like to participate remotely\, please use our online event registration form. \nThe teachings are free–donations are welcome. \n  \nPlease do not visit the monastery if you feel unwell and/or have a fever. \nWe urge all program participants to take precautions against the ongoing risk of COVID through protection such as wearing a mask and washing hands. \nMasks and hand sanitizer will be available at all entryways. \nMany thanks to all of you for your support in keeping this event as safe as possible! \n 
URL:https://palpungny.org/events/teaching-on-the-short-prayer-to-vajradhara/
LOCATION:Palpung Thubten Chöling\, 245 Sheafe Road\, Wappingers Falls\, NY\, 12590\, United States
CATEGORIES:Current Events
ATTACH;FMTTYPE=image/jpeg:https://palpungny.org/wp-content/uploads/2025/02/vajradhara-dorjechang-cropped-1-e1739819506839.jpeg
END:VEVENT
END:VCALENDAR