BEGIN:VCALENDAR
VERSION:2.0
PRODID:-//Palpung New York - ECPv6.14.2//NONSGML v1.0//EN
CALSCALE:GREGORIAN
METHOD:PUBLISH
X-WR-CALNAME:Palpung New York
X-ORIGINAL-URL:https://palpungny.org
X-WR-CALDESC:Events for Palpung New York
REFRESH-INTERVAL;VALUE=DURATION:PT1H
X-Robots-Tag:noindex
X-PUBLISHED-TTL:PT1H
BEGIN:VTIMEZONE
TZID:America/New_York
BEGIN:DAYLIGHT
TZOFFSETFROM:-0500
TZOFFSETTO:-0400
TZNAME:EDT
DTSTART:20210314T070000
END:DAYLIGHT
BEGIN:STANDARD
TZOFFSETFROM:-0400
TZOFFSETTO:-0500
TZNAME:EST
DTSTART:20211107T060000
END:STANDARD
END:VTIMEZONE
BEGIN:VEVENT
DTSTART;TZID=America/New_York:20210624T100000
DTEND;TZID=America/New_York:20210624T110000
DTSTAMP:20260424T142521
CREATED:20210623T142811Z
LAST-MODIFIED:20210623T143658Z
UID:10001531-1624528800-1624532400@palpungny.org
SUMMARY:World Cleansing Smoke Offering (Dzamling Chisang)
DESCRIPTION:On this full moon day we will honor a vast mandala of local deities and protectors with a traditional morning fire ceremony (Sang) to bring renewed balance and energy to the world. \nThe Maitreya Shrine Room will be open to the public for this event. \nYou may also view this practice remotely. For information on how to join us via ZOOM\, please click here. \n  \nIMPORTANT INFORMATION \nIf you feel unwell and/or have a fever\, please do not visit the monastery.\nTea will be served only to the monks and nuns. Guests are invited to bring their own thermoses of water or tea from home. \nAll other areas of the Maitreya Center as well as all other buildings remain closed until further notice\, including dining rooms; and no overnight accommodations are available. \nGuests are welcome to bring lunch to eat outdoors on the grounds\, or to enjoy our many local restaurants.\nWhile outdoors\, please be mindful of ticks\, and we strongly advise checking your body and clothing for ticks after your visit. \nAll visitors are required to wear a mask indoors.\nChildren 12 years old and younger must be supervised.\nNo pets please. \n  \nSPONSORSHIP \nFor those who wish to sponsor the chanting or tea served during the chanting\, please be sure to include a prayer with your donation which will be read aloud to the assembly. \nYou can your donations on-line or simply mail your tax-deductible contribution to: \n  \nPalpung Thubten Chöling\nAttn: Office\n245 Sheafe Road\, Wappingers Falls\, NY 12590. \n  \nPlease make checks payable to Palpung Thubten Choling or PTC. For credit card payments\, fax your credit card number (VISA or MasterCard only)\, along with the expiration date and signature and the amount you would like to charge to (845) 297-5761. For your protection\, please do not email your credit card information.
URL:https://palpungny.org/events/world-cleansing-smoke-offering-dzamling-chisang/
LOCATION:Palpung Thubten Chöling\, 245 Sheafe Road\, Wappingers Falls\, NY\, 12590\, United States
CATEGORIES:Current Events
ATTACH;FMTTYPE=image/jpeg:https://palpungny.org/wp-content/uploads/2021/06/full_moon_tibet.jpg
END:VEVENT
END:VCALENDAR