BEGIN:VCALENDAR
VERSION:2.0
PRODID:-//Palpung New York - ECPv6.14.2//NONSGML v1.0//EN
CALSCALE:GREGORIAN
METHOD:PUBLISH
X-WR-CALNAME:Palpung New York
X-ORIGINAL-URL:https://palpungny.org
X-WR-CALDESC:Events for Palpung New York
REFRESH-INTERVAL;VALUE=DURATION:PT1H
X-Robots-Tag:noindex
X-PUBLISHED-TTL:PT1H
BEGIN:VTIMEZONE
TZID:America/New_York
BEGIN:DAYLIGHT
TZOFFSETFROM:-0500
TZOFFSETTO:-0400
TZNAME:EDT
DTSTART:20200308T070000
END:DAYLIGHT
BEGIN:STANDARD
TZOFFSETFROM:-0400
TZOFFSETTO:-0500
TZNAME:EST
DTSTART:20201101T060000
END:STANDARD
END:VTIMEZONE
BEGIN:VEVENT
DTSTART;TZID=America/New_York:20200902T060000
DTEND;TZID=America/New_York:20200902T100000
DTSTAMP:20260420T000947
CREATED:20200908T230021Z
LAST-MODIFIED:20201008T225632Z
UID:10000392-1599026400-1599040800@palpungny.org
SUMMARY:09/02/2020 - Commemoration of Buddha's Joyful Day
DESCRIPTION:September 2\, 2020 (Wednesday) \nThe observance of Buddha’s Joyful Day on the full moon day of the seventh lunar month is based on the story of Maudgalyayana\, a disciple of the Buddha. Buddha’s Joyful Day is observed by making offerings of necessities to monastics\, reciting sūtras and performing acts of generosity. The merit from these deeds is dedicated to all beings\, especially to relieve the suffering of the deceased. \n\n\n\n\n\n\nIt is said that\, “no matter how long ago your deceased dear ones or relatives have passed away\, it is still very vital to make prayers and offerings for them to increase their merit.” \nYou may donate any amount and provide us with the names for dedication (both living and deceased).  To make these dedications\, download the Amitabha Sadhana Dedication Form in Chinese and English. \nTo make general donations to Buddha Joyful day\, please click here. \n\n\n\n6:00 am | Lighting of 500 butter lamps with the chanting of Chenrezig Sadhana\n\n9:00 am | Chanting of Long Amitabha Sadhana with Tsok\, Jangchok Sadhana\, and Sür (special fire offering ceremony)
URL:https://palpungny.org/events/09-02-2020-commemoration-of-buddhas-joyful-day/
LOCATION:Palpung Thubten Chöling\, 245 Sheafe Road\, Wappingers Falls\, NY\, 12590\, United States
CATEGORIES:Past Events
ATTACH;FMTTYPE=image/jpeg:https://palpungny.org/wp-content/uploads/2020/08/amitabhakuanyintaishihchihresized-e1657721264591.jpg
END:VEVENT
BEGIN:VEVENT
DTSTART;TZID=America/New_York:20200908T080000
DTEND;TZID=America/New_York:20200908T170000
DTSTAMP:20260420T000947
CREATED:20200908T230407Z
LAST-MODIFIED:20201008T225632Z
UID:10000383-1599552000-1599584400@palpungny.org
SUMMARY:08/29/2020 - Dharma Story Session for Children led by Lama Depa
DESCRIPTION:August 29\, 2020 (Saturday) \nIn light of the coronavirus outbreak\, to protect the well-being and safety of everyone\, Palpung Thubten Chöling Monastery remains closed to the public. \nThe featured book will be Moody Cow Meditates by Kerry Lee MacLean\, and is recommended for ages 4-8\, but all ages are welcome. The session will also include a brief introduction to meditation\, which we hope will be helpful in these especially stressful times. \nThis class is being offered remotely on Zoom. If you would like to participate please email Lama Lhadrun. \nWe ask that all children be accompanied by an adult to help with tech issues (muting etc). \n\n4:00 pm | Dharma Story Session
URL:https://palpungny.org/events/08-29-2020-dharma-story-session-for-children-led-by-lama-depa/
LOCATION:Palpung Thubten Chöling\, 245 Sheafe Road\, Wappingers Falls\, NY\, 12590\, United States
CATEGORIES:Past Events
ATTACH;FMTTYPE=image/jpeg:https://palpungny.org/wp-content/uploads/2020/08/moodycow.jpg
END:VEVENT
BEGIN:VEVENT
DTSTART;TZID=America/New_York:20200913T020000
DTEND;TZID=America/New_York:20200913T143000
DTSTAMP:20260420T000947
CREATED:20200908T230834Z
LAST-MODIFIED:20201008T225632Z
UID:10000382-1599962400-1600007400@palpungny.org
SUMMARY:09/13/2020 - Discussion About A Meaningful Life\, a Teaching by Guru Vajradhara Tai Situpa Rinpoche\, Led by Lama Jamdron and Lama Jinzang
DESCRIPTION:September 13\, 2020 (Sunday) \nIn light of concerns about the coronavirus outbreak\, to protect the well-being and safety of everyone\, Palpung Thubten Chöling Monastery remains closed to the public. \nWe invite you to participate in an online interactive discussion on this teaching given by Guru Vajradhara Tai Situpa Rinpoche. Before the session please view the video titled A Meaningful Life and prepare questions and/or comments to share with the group. We look forward to having an engaging discussion! \nThis session is being offered remotely on Zoom.  If you would like to participate please email Lama Lhadrun. \n\n2:00 pm – 3:00 pm | Discussion about A Meaningful Life
URL:https://palpungny.org/events/discussion-about-a-meaningful-life-a-teaching-by-guru-vajradhara-tai-situpa-rinpoche-led-by-lama-jamdron-and-lama-jinzang/
LOCATION:Palpung Thubten Chöling\, 245 Sheafe Road\, Wappingers Falls\, NY\, 12590\, United States
CATEGORIES:Past Events
ATTACH;FMTTYPE=image/jpeg:https://palpungny.org/wp-content/uploads/2020/10/rainbowsreflectedinwater-kathirogers-resized-min.jpg
END:VEVENT
BEGIN:VEVENT
DTSTART;TZID=America/New_York:20200920T100000
DTEND;TZID=America/New_York:20200920T120000
DTSTAMP:20260420T000947
CREATED:20200918T152608Z
LAST-MODIFIED:20201008T225313Z
UID:10000162-1600596000-1600603200@palpungny.org
SUMMARY:09/20/20 - Calling the Lama from Afar - Teaching and Chanting
DESCRIPTION:In light of the coronavirus outbreak\, to protect the well-being and safety of everyone\, Palpung Thubten Chöling Monastery is temporarily closed to the public. \nThis class is being offered remotely on Zoom.  If you would like to participate please email Lama Lhadrun. \n  \nLama Norgyal will be teaching on and leading the sangha in the chanting of Calling the Lama from Afar. Written by the great master Jamgon Kongtrul Lodro Thaye\, this text is a powerful supplication to invoke the blessings of the lama and the great masters of all four Tibetan Buddhist lineages.  A combination of profound meditation instruction and plain-spoken reminders about the way we can delude ourselves on the path\, this melodiously sung devotional prayer is an inspiration for practitioners of all levels. \n  \n10:00 am | Teaching on Calling the Lama from Afar\n11:00 am | Chanting of Calling the Lama from Afar \nClick here to download English text of Calling the Lama from Afar.
URL:https://palpungny.org/events/09-20-20-calling-the-lama-from-afar-teaching-and-chanting/
LOCATION:Palpung Thubten Chöling\, 245 Sheafe Road\, Wappingers Falls\, NY\, 12590\, United States
CATEGORIES:Current Events,Ongoing Events,Past Events
ATTACH;FMTTYPE=image/jpeg:https://palpungny.org/wp-content/uploads/2019/07/jamgonkongtrullodrothaye-cropped-e1564459764668.jpg
END:VEVENT
BEGIN:VEVENT
DTSTART;TZID=America/New_York:20200926T063000
DTEND;TZID=America/New_York:20200926T080000
DTSTAMP:20260420T000947
CREATED:20200924T153035Z
LAST-MODIFIED:20201008T225913Z
UID:10000381-1601101800-1601107200@palpungny.org
SUMMARY:09/26/20 Thousandfold Lamps & Offerings (Tong Chö)
DESCRIPTION:In light of concerns about the coronavirus outbreak\, to protect the well-being and safety of everyone\, Palpung Thubten Chöling Monastery is temporarily closed to the public. \nWe are praying for everyone to be safe and healthy. Butterlamp offerings (Tongchö) will continue as usual\, so please feel free to send in your prayers. \nA traditional Tong Chö of 1\,000 butter lamps\, 1\,000 bowls of saffron water and 300 bowls filled with rice\, incense and flowers is offered weekly\, accompanied by chanting of the Chenrezig practice. \n(Free of charge)
URL:https://palpungny.org/events/thousandfold-lamps-offerings-tong-cho/
LOCATION:Palpung Thubten Chöling\, 245 Sheafe Road\, Wappingers Falls\, NY\, 12590\, United States
CATEGORIES:Current Events,Ongoing Events,Past Events
ATTACH;FMTTYPE=image/jpeg:https://palpungny.org/wp-content/uploads/2020/10/butterlamps-min.jpg
END:VEVENT
END:VCALENDAR