BEGIN:VCALENDAR
VERSION:2.0
PRODID:-//Palpung New York - ECPv6.14.2//NONSGML v1.0//EN
CALSCALE:GREGORIAN
METHOD:PUBLISH
X-WR-CALNAME:Palpung New York
X-ORIGINAL-URL:https://palpungny.org
X-WR-CALDESC:Events for Palpung New York
REFRESH-INTERVAL;VALUE=DURATION:PT1H
X-Robots-Tag:noindex
X-PUBLISHED-TTL:PT1H
BEGIN:VTIMEZONE
TZID:America/New_York
BEGIN:DAYLIGHT
TZOFFSETFROM:-0500
TZOFFSETTO:-0400
TZNAME:EDT
DTSTART:20240310T070000
END:DAYLIGHT
BEGIN:STANDARD
TZOFFSETFROM:-0400
TZOFFSETTO:-0500
TZNAME:EST
DTSTART:20241103T060000
END:STANDARD
END:VTIMEZONE
BEGIN:VEVENT
DTSTART;TZID=America/New_York:20240106T100000
DTEND;TZID=America/New_York:20240106T120000
DTSTAMP:20260422T163050
CREATED:20230706T222055Z
LAST-MODIFIED:20230706T222056Z
UID:10000070-1704535200-1704542400@palpungny.org
SUMMARY:Kalu Rinpoche's Practice of Aspiration Prayers (Monlam Choga)\, followed by the Short Practice of the Peaceful & Wrathful Deities (Shitro)
DESCRIPTION:We recommend that visitors wear masks indoors. Masks and hand sanitizer are available at all entryways. Please note that accommodations remain closed to the public\, except when noted otherwise for special programs. \n  \nPlease join us in the chanting of the Monlam Choga\, a practice of offering and aspiration prayers compiled by Dorje Chang Kalu Rinpoche. This is followed by the short liturgy of Shitro (Peaceful and Wrathful Deities)\, a profound practice from the cycle of teachings and meditations of the Tibetan Book of the Dead. We dedicate this practice to the deceased in order to purify negativities\, avert obstacles in the bardo\, and establish a connection with the deities that will ripen in future lives. \n  \nIf you would like to participate via Zoom please use our online event registration form.  To join the chanting please download Kalu Rinpoche’s Practice of Aspiration Prayers (Monlam Choga) \n  \nMonday\, Tuesday\, Wednesday and Thursday night classes will continue on Zoom only. To join us via Zoom please click here. \nPlease do not visit the monastery if you feel unwell and/or have a fever. \nAll visitors are required to wear a mask indoors. Children 12 years old and younger must be supervised. No pets please. \n  \n  \n 
URL:https://palpungny.org/events/chanting-of-the-monlam-choga-2022-05-28-19/2024-01-06/
LOCATION:Palpung Thubten Chöling\, 245 Sheafe Road\, Wappingers Falls\, NY\, 12590\, United States
CATEGORIES:Ongoing Events
END:VEVENT
BEGIN:VEVENT
DTSTART;TZID=America/New_York:20240112T100000
DTEND;TZID=America/New_York:20240112T120000
DTSTAMP:20260422T163050
CREATED:20240103T163949Z
LAST-MODIFIED:20240103T163949Z
UID:10000071-1705053600-1705060800@palpungny.org
SUMMARY:Kalu Rinpoche's Practice of Aspiration Prayers (Monlam Choga)\, followed by the Short Practice of the Peaceful & Wrathful Deities (Shitro)
DESCRIPTION:We recommend that visitors wear masks indoors. Masks and hand sanitizer are available at all entryways. Please note that accommodations remain closed to the public\, except when noted otherwise for special programs. \n  \nPlease join us in the chanting of the Monlam Choga\, a practice of offering and aspiration prayers compiled by Dorje Chang Kalu Rinpoche. This is followed by the short liturgy of Shitro (Peaceful and Wrathful Deities)\, a profound practice from the cycle of teachings and meditations of the Tibetan Book of the Dead. We dedicate this practice to the deceased in order to purify negativities\, avert obstacles in the bardo\, and establish a connection with the deities that will ripen in future lives. \n  \nIf you would like to participate via Zoom please use our online event registration form.  To join the chanting please download Kalu Rinpoche’s Practice of Aspiration Prayers (Monlam Choga) \n  \nMonday\, Tuesday\, Wednesday and Thursday night classes will continue on Zoom only. To join us via Zoom please click here. \nPlease do not visit the monastery if you feel unwell and/or have a fever. \nAll visitors are required to wear a mask indoors. Children 12 years old and younger must be supervised. No pets please. \n  \n  \n 
URL:https://palpungny.org/events/chanting-of-the-monlam-choga-2022-05-28-19-14/
LOCATION:Palpung Thubten Chöling\, 245 Sheafe Road\, Wappingers Falls\, NY\, 12590\, United States
CATEGORIES:Ongoing Events
END:VEVENT
BEGIN:VEVENT
DTSTART;TZID=America/New_York:20240113T140000
DTEND;TZID=America/New_York:20240113T160000
DTSTAMP:20260422T163050
CREATED:20240103T172447Z
LAST-MODIFIED:20240103T174241Z
UID:10002459-1705154400-1705161600@palpungny.org
SUMMARY:Teaching on the Practice of Medicine Buddha
DESCRIPTION:Palpung Thubten Choling is very pleased to announce that our Retreat Master\, Lama Tsering Dakpa has agreed to teach on the practice of Medicine Buddha. Medicine Buddha is venerated by all four lineages of Tibetan Buddhism\, and Lama Tsering has emphasized the vital importance of this practice for Dharma students. The practice of Medicine Buddha is extremely beneficial in difficult times as a method to work for the benefit of all beings and the relief of their suffering whether through illness or other causes. \nThis class is being offered remotely on Zoom.  If you would like to participate\, please click here. \n\n\nSchedule of Teachings:\nJanuary 13\, Saturday | 2 pm – 4 pm \nJanuary 20\, Saturday | 2 pm – 4 pm  \n  \nPlease do not visit the monastery if you feel unwell and/or have a fever. \nWe urge all program participants to take precautions against the ongoing risk of COVID through protection such as having up-to-date vaccinations\, wearing a good-quality mask indoors\, washing hands and maintaining physical distance. \nMasks and hand sanitizer will be available at all entryways. \nMany thanks to all of you for your support in keeping this event as safe as possible! \n  \n\n  \n  \n 
URL:https://palpungny.org/events/teaching-on-the-practice-of-medicine-buddha/
LOCATION:Palpung Thubten Chöling\, 245 Sheafe Road\, Wappingers Falls\, NY\, 12590\, United States
CATEGORIES:Current Events
ATTACH;FMTTYPE=image/jpeg:https://palpungny.org/wp-content/uploads/2022/05/medicinebuddh-retinue.jpg
END:VEVENT
BEGIN:VEVENT
DTSTART;TZID=America/New_York:20240119T100000
DTEND;TZID=America/New_York:20240119T120000
DTSTAMP:20260422T163050
CREATED:20240103T164327Z
LAST-MODIFIED:20240103T164328Z
UID:10000072-1705658400-1705665600@palpungny.org
SUMMARY:Kalu Rinpoche's Practice of Aspiration Prayers (Monlam Choga)\, followed by the Short Practice of the Peaceful & Wrathful Deities (Shitro)
DESCRIPTION:We recommend that visitors wear masks indoors. Masks and hand sanitizer are available at all entryways. Please note that accommodations remain closed to the public\, except when noted otherwise for special programs. \n  \nPlease join us in the chanting of the Monlam Choga\, a practice of offering and aspiration prayers compiled by Dorje Chang Kalu Rinpoche. This is followed by the short liturgy of Shitro (Peaceful and Wrathful Deities)\, a profound practice from the cycle of teachings and meditations of the Tibetan Book of the Dead. We dedicate this practice to the deceased in order to purify negativities\, avert obstacles in the bardo\, and establish a connection with the deities that will ripen in future lives. \n  \nIf you would like to participate via Zoom please use our online event registration form.  To join the chanting please download Kalu Rinpoche’s Practice of Aspiration Prayers (Monlam Choga) \n  \nMonday\, Tuesday\, Wednesday and Thursday night classes will continue on Zoom only. To join us via Zoom please click here. \nPlease do not visit the monastery if you feel unwell and/or have a fever. \nAll visitors are required to wear a mask indoors. Children 12 years old and younger must be supervised. No pets please. \n  \n  \n 
URL:https://palpungny.org/events/chanting-of-the-monlam-choga-2022-05-28-19-15/
LOCATION:Palpung Thubten Chöling\, 245 Sheafe Road\, Wappingers Falls\, NY\, 12590\, United States
CATEGORIES:Ongoing Events
END:VEVENT
BEGIN:VEVENT
DTSTART;TZID=America/New_York:20240120T140000
DTEND;TZID=America/New_York:20240120T160000
DTSTAMP:20260422T163050
CREATED:20240103T174349Z
LAST-MODIFIED:20240122T142511Z
UID:10002460-1705759200-1705766400@palpungny.org
SUMMARY:Teaching on the Practice of Chenrezig
DESCRIPTION:Our Retreat Master\, Lama Tsering Dakpa will be teaching on the practice of Chenrezig. Guru Vajradhara Tai Situ Rinpoche has said that\, “Chenrezig is the embodiment of compassion\, Bodhicitta. We reach Buddhahood intentionally\, and the intention is Bodhicitta. That is what Chenrezig represents. The Chenrezig Sadhana is the most sacred and profound sadhana. By practicing it with awareness\, you can attain Chenrezig’s enlightened body\, speech\, and mind.” \n  \nThis class is being offered in person and on Zoom.  If you would like to participate remotely\, please click here. \n\n\nThere is no fee for attending this teaching; donations are welcome.\n \n  \nPlease do not visit the monastery if you feel unwell and/or have a fever. \nWe urge all program participants to take precautions against the ongoing risk of COVID through protection such as having up-to-date vaccinations\, wearing a good-quality mask indoors\, washing hands and maintaining physical distance. \nMasks and hand sanitizer will be available at all entryways. \nMany thanks to all of you for your support in keeping this event as safe as possible! \n  \n\n 
URL:https://palpungny.org/events/teaching-on-the-practice-of-chenrezig/
LOCATION:Palpung Thubten Chöling\, 245 Sheafe Road\, Wappingers Falls\, NY\, 12590\, United States
CATEGORIES:Current Events
ATTACH;FMTTYPE=image/jpeg:https://palpungny.org/wp-content/uploads/2022/05/chenrezig-min-e1651436726448.jpeg
END:VEVENT
BEGIN:VEVENT
DTSTART;TZID=America/New_York:20240126T100000
DTEND;TZID=America/New_York:20240126T120000
DTSTAMP:20260422T163050
CREATED:20240108T204755Z
LAST-MODIFIED:20240108T204756Z
UID:10000073-1706263200-1706270400@palpungny.org
SUMMARY:Kalu Rinpoche's Practice of Aspiration Prayers (Monlam Choga)\, followed by the Short Practice of the Peaceful & Wrathful Deities (Shitro)
DESCRIPTION:We recommend that visitors wear masks indoors. Masks and hand sanitizer are available at all entryways. Please note that accommodations remain closed to the public\, except when noted otherwise for special programs. \n  \nPlease join us in the chanting of the Monlam Choga\, a practice of offering and aspiration prayers compiled by Dorje Chang Kalu Rinpoche. This is followed by the short liturgy of Shitro (Peaceful and Wrathful Deities)\, a profound practice from the cycle of teachings and meditations of the Tibetan Book of the Dead. We dedicate this practice to the deceased in order to purify negativities\, avert obstacles in the bardo\, and establish a connection with the deities that will ripen in future lives. \n  \nIf you would like to participate via Zoom please use our online event registration form.  To join the chanting please download Kalu Rinpoche’s Practice of Aspiration Prayers (Monlam Choga) \n  \nMonday\, Tuesday\, Wednesday and Thursday night classes will continue on Zoom only. To join us via Zoom please click here. \nPlease do not visit the monastery if you feel unwell and/or have a fever. \nAll visitors are required to wear a mask indoors. Children 12 years old and younger must be supervised. No pets please. \n  \n  \n 
URL:https://palpungny.org/events/chanting-of-the-monlam-choga-2022-05-28-19-16/
LOCATION:Palpung Thubten Chöling\, 245 Sheafe Road\, Wappingers Falls\, NY\, 12590\, United States
CATEGORIES:Ongoing Events
END:VEVENT
END:VCALENDAR