BEGIN:VCALENDAR
VERSION:2.0
PRODID:-//Palpung New York - ECPv6.14.2//NONSGML v1.0//EN
CALSCALE:GREGORIAN
METHOD:PUBLISH
X-WR-CALNAME:Palpung New York
X-ORIGINAL-URL:https://palpungny.org
X-WR-CALDESC:Events for Palpung New York
REFRESH-INTERVAL;VALUE=DURATION:PT1H
X-Robots-Tag:noindex
X-PUBLISHED-TTL:PT1H
BEGIN:VTIMEZONE
TZID:America/New_York
BEGIN:DAYLIGHT
TZOFFSETFROM:-0500
TZOFFSETTO:-0400
TZNAME:EDT
DTSTART:20210314T070000
END:DAYLIGHT
BEGIN:STANDARD
TZOFFSETFROM:-0400
TZOFFSETTO:-0500
TZNAME:EST
DTSTART:20211107T060000
END:STANDARD
END:VTIMEZONE
BEGIN:VEVENT
DTSTART;TZID=America/New_York:20210204T193000
DTEND;TZID=America/New_York:20210204T200000
DTSTAMP:20260422T102548
CREATED:20201113T213814Z
LAST-MODIFIED:20230401T161123Z
UID:10000741-1612467000-1612468800@palpungny.org
SUMMARY:Thursday Evenings - Chenrezig Practice
DESCRIPTION:Due to the risks of covid and its variants\, Monday\, Tuesday\, Wednesday and Thursday night classes will continue on Zoom only. To join us via Zoom please click here. \n7:30-8:30pm | Chenrezig Practice\nPlease join us online as we chant and meditate in order to realize our inborn great compassion.  Guru Vajradhara Tai Situ Rinpoche has said that\, “Chenrezig is the embodiment of compassion\, Bodhicitta. We reach Buddhahood intentionally\, and the intention is Bodhicitta. That is what Chenrezig represents. The Chenrezig Sadhana is the most sacred and profound sadhana. By practicing it with awareness\, you can attain Chenrezig’s enlightened body\, speech\, and mind.” \nThe liturgy is being screen shared. It is translated as well as written phonetically. You can chant along\, or silently read the translation. \nIf you would like to participate\, please use our online event registration form. \n 
URL:https://palpungny.org/events/thursday-evenings-chenrezig-practice/2021-02-04/
LOCATION:Palpung Thubten Chöling\, 245 Sheafe Road\, Wappingers Falls\, NY\, 12590\, United States
CATEGORIES:Ongoing Events
ATTACH;FMTTYPE=image/jpeg:https://palpungny.org/wp-content/uploads/2022/05/chenrezig-min-e1651436726448.jpeg
END:VEVENT
BEGIN:VEVENT
DTSTART;TZID=America/New_York:20210207T100000
DTEND;TZID=America/New_York:20210207T120000
DTSTAMP:20260422T102549
CREATED:20210127T024606Z
LAST-MODIFIED:20210209T213400Z
UID:10000154-1612692000-1612699200@palpungny.org
SUMMARY:Multiple Dates - Blessings for the Deceased
DESCRIPTION:Special Chanting of Blessings for the Deceased \n  \nIn light of the coronavirus outbreak\, to protect the well-being and safety of everyone\, Palpung Thubten Chöling Monastery remains closed to the public. \n  \nFor the next four Sundays through Feb 21\, the sangha of PTC will perform the Jangchok ritual for purifying and liberating the deceased. This ceremony is known to bestow great blessings on the deceased\, no matter how long ago they may have passed. \nThe chanting is being offered remotely on Zoom; please email Lama Lhadrun for the link. \n  \nThe schedule is as follows: \nJanuary 31\,2021 (10:00 AM)\n \nFebruary 7\, 2021 (10:00 AM) \nFebruary 14\, 2021 (10:00 AM) \nFebruary 21\, 2021 (1:30 PM) \n\nSubmitting names of the deceased for blessing:\n \nYou are welcome to submit names of the deceased to be blessed during the ceremonies. You may email your names of deceased friends and relatives by Thursday each week for a suggested offering of $25\, or whatever you can give. \nEmail names to be blessed to: lhadrun@kagyu.com \nYou may make your donations on-line or simply mail your tax-deductible contribution to: \nPalpung Thubten Chöling\nAttn: Office\n245 Sheafe Road\, Wappingers Falls\, NY 12590. \nPlease make checks payable to Palpung Thubten Choling or PTC. For credit card payments\, fax your credit card number (VISA or MasterCard only)\, along with the expiration date and signature and the amount you would like to charge to (845) 297-5761. For your protection\, please do not email your credit card information.
URL:https://palpungny.org/events/01-31-2021-blessings-for-the-deceased/2021-02-07/
LOCATION:Palpung Thubten Chöling\, 245 Sheafe Road\, Wappingers Falls\, NY\, 12590\, United States
CATEGORIES:Current Events,Ongoing Events
ATTACH;FMTTYPE=image/jpeg:https://palpungny.org/wp-content/uploads/2021/02/buddha-year-end-changing-min.jpg
END:VEVENT
BEGIN:VEVENT
DTSTART;TZID=America/New_York:20210211T193000
DTEND;TZID=America/New_York:20210211T200000
DTSTAMP:20260422T102549
CREATED:20201113T213814Z
LAST-MODIFIED:20230401T161123Z
UID:10000742-1613071800-1613073600@palpungny.org
SUMMARY:Thursday Evenings - Chenrezig Practice
DESCRIPTION:Due to the risks of covid and its variants\, Monday\, Tuesday\, Wednesday and Thursday night classes will continue on Zoom only. To join us via Zoom please click here. \n7:30-8:30pm | Chenrezig Practice\nPlease join us online as we chant and meditate in order to realize our inborn great compassion.  Guru Vajradhara Tai Situ Rinpoche has said that\, “Chenrezig is the embodiment of compassion\, Bodhicitta. We reach Buddhahood intentionally\, and the intention is Bodhicitta. That is what Chenrezig represents. The Chenrezig Sadhana is the most sacred and profound sadhana. By practicing it with awareness\, you can attain Chenrezig’s enlightened body\, speech\, and mind.” \nThe liturgy is being screen shared. It is translated as well as written phonetically. You can chant along\, or silently read the translation. \nIf you would like to participate\, please use our online event registration form. \n 
URL:https://palpungny.org/events/thursday-evenings-chenrezig-practice/2021-02-11/
LOCATION:Palpung Thubten Chöling\, 245 Sheafe Road\, Wappingers Falls\, NY\, 12590\, United States
CATEGORIES:Ongoing Events
ATTACH;FMTTYPE=image/jpeg:https://palpungny.org/wp-content/uploads/2022/05/chenrezig-min-e1651436726448.jpeg
END:VEVENT
BEGIN:VEVENT
DTSTART;TZID=America/New_York:20210214T100000
DTEND;TZID=America/New_York:20210214T120000
DTSTAMP:20260422T102549
CREATED:20210127T024606Z
LAST-MODIFIED:20210209T213400Z
UID:10000155-1613296800-1613304000@palpungny.org
SUMMARY:Multiple Dates - Blessings for the Deceased
DESCRIPTION:Special Chanting of Blessings for the Deceased \n  \nIn light of the coronavirus outbreak\, to protect the well-being and safety of everyone\, Palpung Thubten Chöling Monastery remains closed to the public. \n  \nFor the next four Sundays through Feb 21\, the sangha of PTC will perform the Jangchok ritual for purifying and liberating the deceased. This ceremony is known to bestow great blessings on the deceased\, no matter how long ago they may have passed. \nThe chanting is being offered remotely on Zoom; please email Lama Lhadrun for the link. \n  \nThe schedule is as follows: \nJanuary 31\,2021 (10:00 AM)\n \nFebruary 7\, 2021 (10:00 AM) \nFebruary 14\, 2021 (10:00 AM) \nFebruary 21\, 2021 (1:30 PM) \n\nSubmitting names of the deceased for blessing:\n \nYou are welcome to submit names of the deceased to be blessed during the ceremonies. You may email your names of deceased friends and relatives by Thursday each week for a suggested offering of $25\, or whatever you can give. \nEmail names to be blessed to: lhadrun@kagyu.com \nYou may make your donations on-line or simply mail your tax-deductible contribution to: \nPalpung Thubten Chöling\nAttn: Office\n245 Sheafe Road\, Wappingers Falls\, NY 12590. \nPlease make checks payable to Palpung Thubten Choling or PTC. For credit card payments\, fax your credit card number (VISA or MasterCard only)\, along with the expiration date and signature and the amount you would like to charge to (845) 297-5761. For your protection\, please do not email your credit card information.
URL:https://palpungny.org/events/01-31-2021-blessings-for-the-deceased/2021-02-14/
LOCATION:Palpung Thubten Chöling\, 245 Sheafe Road\, Wappingers Falls\, NY\, 12590\, United States
CATEGORIES:Current Events,Ongoing Events
ATTACH;FMTTYPE=image/jpeg:https://palpungny.org/wp-content/uploads/2021/02/buddha-year-end-changing-min.jpg
END:VEVENT
BEGIN:VEVENT
DTSTART;TZID=America/New_York:20210218T193000
DTEND;TZID=America/New_York:20210218T200000
DTSTAMP:20260422T102549
CREATED:20201113T213814Z
LAST-MODIFIED:20230401T161123Z
UID:10000743-1613676600-1613678400@palpungny.org
SUMMARY:Thursday Evenings - Chenrezig Practice
DESCRIPTION:Due to the risks of covid and its variants\, Monday\, Tuesday\, Wednesday and Thursday night classes will continue on Zoom only. To join us via Zoom please click here. \n7:30-8:30pm | Chenrezig Practice\nPlease join us online as we chant and meditate in order to realize our inborn great compassion.  Guru Vajradhara Tai Situ Rinpoche has said that\, “Chenrezig is the embodiment of compassion\, Bodhicitta. We reach Buddhahood intentionally\, and the intention is Bodhicitta. That is what Chenrezig represents. The Chenrezig Sadhana is the most sacred and profound sadhana. By practicing it with awareness\, you can attain Chenrezig’s enlightened body\, speech\, and mind.” \nThe liturgy is being screen shared. It is translated as well as written phonetically. You can chant along\, or silently read the translation. \nIf you would like to participate\, please use our online event registration form. \n 
URL:https://palpungny.org/events/thursday-evenings-chenrezig-practice/2021-02-18/
LOCATION:Palpung Thubten Chöling\, 245 Sheafe Road\, Wappingers Falls\, NY\, 12590\, United States
CATEGORIES:Ongoing Events
ATTACH;FMTTYPE=image/jpeg:https://palpungny.org/wp-content/uploads/2022/05/chenrezig-min-e1651436726448.jpeg
END:VEVENT
BEGIN:VEVENT
DTSTART;TZID=America/New_York:20210219T080000
DTEND;TZID=America/New_York:20210219T140000
DTSTAMP:20260422T102549
CREATED:20210120T151525Z
LAST-MODIFIED:20210129T220258Z
UID:10000150-1613721600-1613743200@palpungny.org
SUMMARY:02/19/2021 - Third Anniversary of Lama Norlha Rinpoche's Passing
DESCRIPTION:In light of concerns about the coronavirus outbreak\, to protect the well-being and safety of everyone\, Palpung Thubten Chöling Monastery remains closed to the public.  \nPlease join us online in remembering Lama Rinpoche’s\ngreat kindness and blessings.\n \n\n6:30 am | Thousandfold Lamp Offering (Tong Chö)\nA traditional Tong Chö of 1\,000 butter lamps\, 1\,000 bowls of saffron water and 300 bowls filled with rice\, incense and flowers accompanied by chanting of the Chenrezig practice. \nWe are praying for everyone to be safe and healthy. Please feel free to sponsor the offerings and send in your prayers. \n  \nThe next chanting sessions are being offered remotely on Zoom. If you would like to participate please email Lama Lhadrun. \n10:00 am  & 2:00 pm | Kalu Rinpoche’s Practice of Aspiration Prayers (Monlam Choga)\, followed by the Short Practice of the Peaceful & Wrathful Deities (Shitro) \nChanting of the Monlam Choga\, a practice of offering and aspiration prayers compiled by Dorje Chang Kalu Rinpoche. This is followed by the short liturgy of Shitro (Peaceful and Wrathful Deities)\, a profound practice from the cycle of teachings and meditations of the Tibetan Book of the Dead. We dedicate this practice to the deceased in order to purify negativities\, avert obstacles in the bardo\, and establish a connection with the deities that will ripen in future lives. \n\n喇嘛諾那仁波切入涅三週年紀念日 \n  \n\n\n2021年2月19日（周五） \n\n\n因疫情之故\,法林寺嚴禁對外開放\, 但法會仍按時舉行！ \n\n法林寺邀請您綫上共同緬懷\n仁波切的大恩慈悲加被\n\n  \n早上6:30:   供一千盞酥油燈\n供一千盞酥油燈，一千杯藏红花水，三百碗米，三百朵鮮花，三百支香。同時修四臂觀音法。我們祈禱大家平安健康。請隨喜贊助 並付上回向名字。\n\n以下法會可在線上zoom 參與。請電郵Lama Lhadrun取得房間號碼。\n\n上午10:00及下午2點： 誦吉祥祈願文及修文武百尊法簡軌\n念誦由金鋼總持卡盧仁波切編纂的吉祥祈願文。然後修文武百尊法簡軌。此深奧的法門源于[西藏生死書]的教法和禪修。此法超度亡者，淨化中陰身者惡業障礙，令其與百尊結緣，在未來世成熟。\n  \n  \n  \n 
URL:https://palpungny.org/events/02-19-2021-third-anniversary-of-lama-norlha-rinpoches-passing/
LOCATION:Palpung Thubten Chöling\, 245 Sheafe Road\, Wappingers Falls\, NY\, 12590\, United States
CATEGORIES:Current Events
ATTACH;FMTTYPE=image/jpeg:https://palpungny.org/wp-content/uploads/2020/05/lamanorhlarinpoche.jpg
END:VEVENT
BEGIN:VEVENT
DTSTART;TZID=America/New_York:20210221T133000
DTEND;TZID=America/New_York:20210221T153000
DTSTAMP:20260422T102549
CREATED:20210127T024606Z
LAST-MODIFIED:20210209T213400Z
UID:10000156-1613914200-1613921400@palpungny.org
SUMMARY:Multiple Dates - Blessings for the Deceased
DESCRIPTION:Special Chanting of Blessings for the Deceased \n  \nIn light of the coronavirus outbreak\, to protect the well-being and safety of everyone\, Palpung Thubten Chöling Monastery remains closed to the public. \n  \nFor the next four Sundays through Feb 21\, the sangha of PTC will perform the Jangchok ritual for purifying and liberating the deceased. This ceremony is known to bestow great blessings on the deceased\, no matter how long ago they may have passed. \nThe chanting is being offered remotely on Zoom; please email Lama Lhadrun for the link. \n  \nThe schedule is as follows: \nJanuary 31\,2021 (10:00 AM)\n \nFebruary 7\, 2021 (10:00 AM) \nFebruary 14\, 2021 (10:00 AM) \nFebruary 21\, 2021 (1:30 PM) \n\nSubmitting names of the deceased for blessing:\n \nYou are welcome to submit names of the deceased to be blessed during the ceremonies. You may email your names of deceased friends and relatives by Thursday each week for a suggested offering of $25\, or whatever you can give. \nEmail names to be blessed to: lhadrun@kagyu.com \nYou may make your donations on-line or simply mail your tax-deductible contribution to: \nPalpung Thubten Chöling\nAttn: Office\n245 Sheafe Road\, Wappingers Falls\, NY 12590. \nPlease make checks payable to Palpung Thubten Choling or PTC. For credit card payments\, fax your credit card number (VISA or MasterCard only)\, along with the expiration date and signature and the amount you would like to charge to (845) 297-5761. For your protection\, please do not email your credit card information.
URL:https://palpungny.org/events/01-31-2021-blessings-for-the-deceased/2021-02-21/
LOCATION:Palpung Thubten Chöling\, 245 Sheafe Road\, Wappingers Falls\, NY\, 12590\, United States
CATEGORIES:Current Events,Ongoing Events
ATTACH;FMTTYPE=image/jpeg:https://palpungny.org/wp-content/uploads/2021/02/buddha-year-end-changing-min.jpg
END:VEVENT
BEGIN:VEVENT
DTSTART;TZID=America/New_York:20210225T193000
DTEND;TZID=America/New_York:20210225T200000
DTSTAMP:20260422T102549
CREATED:20201113T213814Z
LAST-MODIFIED:20230401T161123Z
UID:10000744-1614281400-1614283200@palpungny.org
SUMMARY:Thursday Evenings - Chenrezig Practice
DESCRIPTION:Due to the risks of covid and its variants\, Monday\, Tuesday\, Wednesday and Thursday night classes will continue on Zoom only. To join us via Zoom please click here. \n7:30-8:30pm | Chenrezig Practice\nPlease join us online as we chant and meditate in order to realize our inborn great compassion.  Guru Vajradhara Tai Situ Rinpoche has said that\, “Chenrezig is the embodiment of compassion\, Bodhicitta. We reach Buddhahood intentionally\, and the intention is Bodhicitta. That is what Chenrezig represents. The Chenrezig Sadhana is the most sacred and profound sadhana. By practicing it with awareness\, you can attain Chenrezig’s enlightened body\, speech\, and mind.” \nThe liturgy is being screen shared. It is translated as well as written phonetically. You can chant along\, or silently read the translation. \nIf you would like to participate\, please use our online event registration form. \n 
URL:https://palpungny.org/events/thursday-evenings-chenrezig-practice/2021-02-25/
LOCATION:Palpung Thubten Chöling\, 245 Sheafe Road\, Wappingers Falls\, NY\, 12590\, United States
CATEGORIES:Ongoing Events
ATTACH;FMTTYPE=image/jpeg:https://palpungny.org/wp-content/uploads/2022/05/chenrezig-min-e1651436726448.jpeg
END:VEVENT
END:VCALENDAR