BEGIN:VCALENDAR
VERSION:2.0
PRODID:-//Palpung New York - ECPv6.14.2//NONSGML v1.0//EN
CALSCALE:GREGORIAN
METHOD:PUBLISH
X-ORIGINAL-URL:https://palpungny.org
X-WR-CALDESC:Events for Palpung New York
REFRESH-INTERVAL;VALUE=DURATION:PT1H
X-Robots-Tag:noindex
X-PUBLISHED-TTL:PT1H
BEGIN:VTIMEZONE
TZID:America/New_York
BEGIN:DAYLIGHT
TZOFFSETFROM:-0500
TZOFFSETTO:-0400
TZNAME:EDT
DTSTART:20240310T070000
END:DAYLIGHT
BEGIN:STANDARD
TZOFFSETFROM:-0400
TZOFFSETTO:-0500
TZNAME:EST
DTSTART:20241103T060000
END:STANDARD
END:VTIMEZONE
BEGIN:VEVENT
DTSTART;TZID=America/New_York:20241205T193000
DTEND;TZID=America/New_York:20241205T203000
DTSTAMP:20260422T102946
CREATED:20240310T191047Z
LAST-MODIFIED:20240310T191207Z
UID:10002725-1733427000-1733430600@palpungny.org
SUMMARY:Thursday evenings - Alternating Practices: Medicine Buddha and Chenrezig
DESCRIPTION:7:30 pm – 8:30 pm  \nThese chanting sessions are being offered in person and on Zoom. If you would like to participate remotely\, please use our online event registration form. \n  \nFirst and third Thursday of each month | Medicine Buddha Practice and The Verses that Saved Sakya from Sickness  \n \nPlease join us as we chant this essential practice which can increase our healing powers so that we can help those in our lives who are struggling with illness and obstacles and also remove our own physical and mental suffering. An abbreviated version of the Chenrezig practice is inserted in the prayer which follows\, known as the Verses that Saved Sakya from Sickness. \n  \nSecond\, fourth and fifth Thursday of each month | Chenrezig Practice \n \nPlease join us as we chant and meditate in order to realize our inborn great compassion.  Guru Vajradhara Tai Situ Rinpoche has said that\, “Chenrezig is the embodiment of compassion\, Bodhicitta. We reach Buddhahood intentionally\, and the intention is Bodhicitta. That is what Chenrezig represents. The Chenrezig Sadhana is the most sacred and profound sadhana. By practicing it with awareness\, you can attain Chenrezig’s enlightened body\, speech\, and mind.” \n  \nThe liturgies are being screen shared and are translated as well as written phonetically. You can chant along\, or silently read the translation. \nThese sessions are free of charge. \n  \nPlease do not visit the monastery if you feel unwell and/or have a fever. \nWe urge all program participants to take precautions against the ongoing risk of COVID through protection such as having up-to-date vaccinations\, wearing a good-quality mask indoors\, washing hands and maintaining physical distance. \nMasks and hand sanitizer will be available at all entryways. \nMany thanks to all of you for your support in keeping this event as safe as possible! \n 
URL:https://palpungny.org/events/thursday-evenings-alternating-practices-medicine-buddha-and-chenrezig-3/2024-12-05/
LOCATION:Palpung Thubten Chöling\, 245 Sheafe Road\, Wappingers Falls\, NY\, 12590\, United States
CATEGORIES:Ongoing Events
ATTACH;FMTTYPE=image/jpeg:https://palpungny.org/wp-content/uploads/2024/02/hung-hri-seed-syllables-1.jpeg
END:VEVENT
BEGIN:VEVENT
DTSTART;TZID=America/New_York:20241212T193000
DTEND;TZID=America/New_York:20241212T203000
DTSTAMP:20260422T102946
CREATED:20240310T191047Z
LAST-MODIFIED:20240310T191207Z
UID:10002726-1734031800-1734035400@palpungny.org
SUMMARY:Thursday evenings - Alternating Practices: Medicine Buddha and Chenrezig
DESCRIPTION:7:30 pm – 8:30 pm  \nThese chanting sessions are being offered in person and on Zoom. If you would like to participate remotely\, please use our online event registration form. \n  \nFirst and third Thursday of each month | Medicine Buddha Practice and The Verses that Saved Sakya from Sickness  \n \nPlease join us as we chant this essential practice which can increase our healing powers so that we can help those in our lives who are struggling with illness and obstacles and also remove our own physical and mental suffering. An abbreviated version of the Chenrezig practice is inserted in the prayer which follows\, known as the Verses that Saved Sakya from Sickness. \n  \nSecond\, fourth and fifth Thursday of each month | Chenrezig Practice \n \nPlease join us as we chant and meditate in order to realize our inborn great compassion.  Guru Vajradhara Tai Situ Rinpoche has said that\, “Chenrezig is the embodiment of compassion\, Bodhicitta. We reach Buddhahood intentionally\, and the intention is Bodhicitta. That is what Chenrezig represents. The Chenrezig Sadhana is the most sacred and profound sadhana. By practicing it with awareness\, you can attain Chenrezig’s enlightened body\, speech\, and mind.” \n  \nThe liturgies are being screen shared and are translated as well as written phonetically. You can chant along\, or silently read the translation. \nThese sessions are free of charge. \n  \nPlease do not visit the monastery if you feel unwell and/or have a fever. \nWe urge all program participants to take precautions against the ongoing risk of COVID through protection such as having up-to-date vaccinations\, wearing a good-quality mask indoors\, washing hands and maintaining physical distance. \nMasks and hand sanitizer will be available at all entryways. \nMany thanks to all of you for your support in keeping this event as safe as possible! \n 
URL:https://palpungny.org/events/thursday-evenings-alternating-practices-medicine-buddha-and-chenrezig-3/2024-12-12/
LOCATION:Palpung Thubten Chöling\, 245 Sheafe Road\, Wappingers Falls\, NY\, 12590\, United States
CATEGORIES:Ongoing Events
ATTACH;FMTTYPE=image/jpeg:https://palpungny.org/wp-content/uploads/2024/02/hung-hri-seed-syllables-1.jpeg
END:VEVENT
BEGIN:VEVENT
DTSTART;TZID=America/New_York:20241214T133000
DTEND;TZID=America/New_York:20241214T170000
DTSTAMP:20260422T102946
CREATED:20241030T184157Z
LAST-MODIFIED:20241030T184157Z
UID:10003546-1734183000-1734195600@palpungny.org
SUMMARY:Gya Shi\, The Practice of the Four Hundred Offerings
DESCRIPTION:To help dispel obstacles and bring about auspicious conditions the resident sangha of PTC will be chanting Gya Shi\, the Practice of the Four Hundred Offerings. This practice\, which involves the offerings of 100 tsa-tsas\, 100 butterlamps\, 100 tormas\, 100 chambu (effigies)\, is a means to purify obstacles created by the four maras (mental afflictions\, attachment to happiness\, clinging to the five skandhas\, death). \n\nThis in-person event is also being offered on Zoom. If you would like to participate remotely\, please click here.\n \n  \nFor those who wish to sponsor the chanting\, donations can be made toward meals and the tea served during the chanting. General contributions toward these special practices are also welcome. Be sure to include a prayer with your donation which will be read aloud to the assembly. \nYou may make your donations on-line or simply mail your tax-deductible contribution to: \nPalpung Thubten Chöling\nAttn: Office\n245 Sheafe Road\, Wappingers Falls\, NY 12590. \nPlease make checks payable to Palpung Thubten Choling or PTC. \nAs we are not able to check email during chanting events\, please send your prayer request and sponsorship information 48 hours before the first day of chanting to guarantee that we receive it in time to announce your prayer. If you are not able to do that\, please leave a short but clear message of your prayer on  845-297-2500  and we will do our best to have your prayer announced. \n  \nPlease do not visit the monastery if you feel unwell and/or have a fever. \nWe urge all program participants to take precautions against the ongoing risk of COVID through wearing masks and washing hands. \nMasks and hand sanitizer will be available at all entryways. \nMany thanks to all of you for your support in keeping this event as safe as possible!
URL:https://palpungny.org/events/gya-shi-the-practice-of-the-four-hundred-offerings-5/
LOCATION:Palpung Thubten Chöling\, 245 Sheafe Road\, Wappingers Falls\, NY\, 12590\, United States
CATEGORIES:Current Events
ATTACH;FMTTYPE=image/jpeg:https://palpungny.org/wp-content/uploads/2019/07/shakyamuni-buddha-1-e1564461104638.jpg
END:VEVENT
BEGIN:VEVENT
DTSTART;TZID=America/New_York:20241215T090000
DTEND;TZID=America/New_York:20241215T170000
DTSTAMP:20260422T102946
CREATED:20241030T184640Z
LAST-MODIFIED:20241030T184640Z
UID:10003547-1734253200-1734282000@palpungny.org
SUMMARY:Sherab Nyingpo\, a practice based on the Heart Sutra
DESCRIPTION:The resident sangha of PTC will be chanting Sherab Nyingpo\, a practice based on the Heart Sutra. Sherab Nyingpo is an obstacle-averting practice that dispels unfavorable circumstances and promotes good conditions. The Heart Sutra is recited repeatedly as a means to purify obstacles created by the four maras (mental afflictions\, attachment to happiness\, clinging to the five skandhas\, death). The practice invokes the blessings of Prajnaparamita\, the Mother of all Buddhas. \nChanting Sessions | 9:00 am & 1:30 pm \n  \nThis in-person event is also being offered on Zoom. If you would like to participate remotely\, please click here.\n \n  \nFor those who wish to sponsor the chanting\, donations can be made toward meals and the tea served during the chanting. General contributions toward these special practices are also welcome. Be sure to include a prayer with your donation which will be read aloud to the assembly. \nYou may make your donations on-line or simply mail your tax-deductible contribution to: \nPalpung Thubten Chöling\nAttn: Office\n245 Sheafe Road\, Wappingers Falls\, NY 12590. \nPlease make checks payable to Palpung Thubten Choling or PTC. \nAs we are not able to check email during chanting events\, please send your prayer request and sponsorship information 48 hours before the first day of chanting to guarantee that we receive it in time to announce your prayer. If you are not able to do that\, please leave a short but clear message of your prayer on  845-297-2500  and we will do our best to have your prayer announced. \n  \nPlease do not visit the monastery if you feel unwell and/or have a fever. \nWe urge all program participants to take precautions against the ongoing risk of COVID through wearing masks and washing hands. \nMasks and hand sanitizer will be available at all entryways. \nMany thanks to all of you for your support in keeping this event as safe as possible! \n 
URL:https://palpungny.org/events/sherab-nyingpo-a-practice-based-on-the-heart-sutra-4/
LOCATION:Palpung Thubten Chöling\, 245 Sheafe Road\, Wappingers Falls\, NY\, 12590\, United States
CATEGORIES:Current Events
ATTACH;FMTTYPE=image/jpeg:https://palpungny.org/wp-content/uploads/2019/07/prajnaparamitaresized-e1664578571464.jpg
END:VEVENT
BEGIN:VEVENT
DTSTART;TZID=America/New_York:20241219T193000
DTEND;TZID=America/New_York:20241219T203000
DTSTAMP:20260422T102946
CREATED:20240310T191047Z
LAST-MODIFIED:20240310T191207Z
UID:10002727-1734636600-1734640200@palpungny.org
SUMMARY:Thursday evenings - Alternating Practices: Medicine Buddha and Chenrezig
DESCRIPTION:7:30 pm – 8:30 pm  \nThese chanting sessions are being offered in person and on Zoom. If you would like to participate remotely\, please use our online event registration form. \n  \nFirst and third Thursday of each month | Medicine Buddha Practice and The Verses that Saved Sakya from Sickness  \n \nPlease join us as we chant this essential practice which can increase our healing powers so that we can help those in our lives who are struggling with illness and obstacles and also remove our own physical and mental suffering. An abbreviated version of the Chenrezig practice is inserted in the prayer which follows\, known as the Verses that Saved Sakya from Sickness. \n  \nSecond\, fourth and fifth Thursday of each month | Chenrezig Practice \n \nPlease join us as we chant and meditate in order to realize our inborn great compassion.  Guru Vajradhara Tai Situ Rinpoche has said that\, “Chenrezig is the embodiment of compassion\, Bodhicitta. We reach Buddhahood intentionally\, and the intention is Bodhicitta. That is what Chenrezig represents. The Chenrezig Sadhana is the most sacred and profound sadhana. By practicing it with awareness\, you can attain Chenrezig’s enlightened body\, speech\, and mind.” \n  \nThe liturgies are being screen shared and are translated as well as written phonetically. You can chant along\, or silently read the translation. \nThese sessions are free of charge. \n  \nPlease do not visit the monastery if you feel unwell and/or have a fever. \nWe urge all program participants to take precautions against the ongoing risk of COVID through protection such as having up-to-date vaccinations\, wearing a good-quality mask indoors\, washing hands and maintaining physical distance. \nMasks and hand sanitizer will be available at all entryways. \nMany thanks to all of you for your support in keeping this event as safe as possible! \n 
URL:https://palpungny.org/events/thursday-evenings-alternating-practices-medicine-buddha-and-chenrezig-3/2024-12-19/
LOCATION:Palpung Thubten Chöling\, 245 Sheafe Road\, Wappingers Falls\, NY\, 12590\, United States
CATEGORIES:Ongoing Events
ATTACH;FMTTYPE=image/jpeg:https://palpungny.org/wp-content/uploads/2024/02/hung-hri-seed-syllables-1.jpeg
END:VEVENT
BEGIN:VEVENT
DTSTART;TZID=America/New_York:20241220T090000
DTEND;TZID=America/New_York:20241222T170000
DTSTAMP:20260422T102946
CREATED:20241030T185216Z
LAST-MODIFIED:20241218T185430Z
UID:10003548-1734685200-1734886800@palpungny.org
SUMMARY:Drolma Yuldok\, a practice based on the 21 Taras and Sür\, Evening Fire Offering Ceremony
DESCRIPTION:December 20 – 22\, Friday – Sunday | Drolma Yuldok\, a practice based on the 21 Taras \nThis three-day practice based on the 21 Taras\, known as Drolma Yuldok\, is chanted to remove obstacles and bring about auspicious conditions.  The central content of the chanting is the 21 Praises of Tara repeated with various offerings and prayers. \nChanting Schedule:\nFriday & Saturday | 9:00 am & 2:00 pm \nSunday | 9:00 am \n  \nDecember 22\, Sunday (following Drolma Yuldok chanting) | Sür\, Evening Fire Offering Ceremony\nSür (an evening fire offering ceremony) is an offering to the four guests: the Buddhas and Bodhisattvas\, the Protector deities\, sentient beings\, and those with whom we have karmic debts. It averts obstacles and sickness and is dedicated to those who are dying\, to beings in the Bardo\, and to beings with whom we have karmic debts. \n  \nThis in-person event is also being offered on Zoom. If you would like to participate remotely\, please click here.\n \n  \nFor those who wish to sponsor the chanting\, donations can be made toward meals and the tea served during the chanting. General contributions toward these special practices are also welcome. Be sure to include a prayer with your donation which will be read aloud to the assembly. \nYou may make your donations on-line or simply mail your tax-deductible contribution to: \nPalpung Thubten Chöling\nAttn: Office\n245 Sheafe Road\, Wappingers Falls\, NY 12590. \nPlease make checks payable to Palpung Thubten Choling or PTC. \nAs we are not able to check email during chanting events\, please send your prayer request and sponsorship information 48 hours before the first day of chanting to guarantee that we receive it in time to announce your prayer. If you are not able to do that\, please leave a short but clear message of your prayer on  845-297-2500  and we will do our best to have your prayer announced. \n  \nPlease do not visit the monastery if you feel unwell and/or have a fever. \nWe urge all program participants to take precautions against the ongoing risk of COVID through wearing masks and washing hands. \nMasks and hand sanitizer will be available at all entryways. \nMany thanks to all of you for your support in keeping this event as safe as possible! \n 
URL:https://palpungny.org/events/drolma-yuldok-a-practice-based-on-the-21-taras-and-sur-evening-fire-offering-ceremony-5/
LOCATION:Palpung Thubten Chöling\, 245 Sheafe Road\, Wappingers Falls\, NY\, 12590\, United States
CATEGORIES:Current Events
ATTACH;FMTTYPE=image/jpeg:https://palpungny.org/wp-content/uploads/2023/04/greentara-enhanced-1-e1681001258999.jpg
END:VEVENT
BEGIN:VEVENT
DTSTART;TZID=America/New_York:20241223T100000
DTEND;TZID=America/New_York:20241223T110000
DTSTAMP:20260422T102946
CREATED:20241030T191120Z
LAST-MODIFIED:20241030T191120Z
UID:10003549-1734948000-1734951600@palpungny.org
SUMMARY:Sang\, Morning Fire Offering Ceremony
DESCRIPTION:Sang (a special morning purification fire ceremony) is an offering to all worldly gods and the 4 guests: Buddhas & Bodhisattvas; Protectors; sentient beings; and those with whom we have karmic debts. This practice pacifies war\, encourages peace and averts sickness. \n  \nThis in-person event is also being offered on Zoom. If you would like to participate remotely\, please click here.\n \n  \nFor those who wish to sponsor the chanting\, donations can be made toward meals\, fire offering ceremonies\, or the tea served during the chanting. General contributions toward these special practices are also welcome. Be sure to include a prayer with your donation which will be read aloud to the assembly. \nYou may make your donations on-line or simply mail your tax-deductible contribution to: \nPalpung Thubten Chöling\nAttn: Office\n245 Sheafe Road\, Wappingers Falls\, NY 12590. \nPlease make checks payable to Palpung Thubten Choling or PTC. \nAs we are not able to check email during chanting events\, please send your prayer request and sponsorship information 48 hours before the first day of chanting to guarantee that we receive it in time to announce your prayer. If you are not able to do that\, please leave a short but clear message of your prayer on  845-297-2500  and we will do our best to have your prayer announced. \n  \nPlease do not visit the monastery if you feel unwell and/or have a fever. \nWe urge all program participants to take precautions against the ongoing risk of COVID through wearing masks and washing hands. \nMasks and hand sanitizer will be available at all entryways. \nMany thanks to all of you for your support in keeping this event as safe as possible! \n  \n 
URL:https://palpungny.org/events/sang-morning-fire-offering-ceremony-3/
LOCATION:Palpung Thubten Chöling\, 245 Sheafe Road\, Wappingers Falls\, NY\, 12590\, United States
CATEGORIES:Current Events
ATTACH;FMTTYPE=image/jpeg:https://palpungny.org/wp-content/uploads/2020/06/gendonation.jpg
END:VEVENT
BEGIN:VEVENT
DTSTART;TZID=America/New_York:20241226T193000
DTEND;TZID=America/New_York:20241226T203000
DTSTAMP:20260422T102946
CREATED:20240310T191047Z
LAST-MODIFIED:20240310T191207Z
UID:10003625-1735241400-1735245000@palpungny.org
SUMMARY:Thursday evenings - Alternating Practices: Medicine Buddha and Chenrezig
DESCRIPTION:7:30 pm – 8:30 pm  \nThese chanting sessions are being offered in person and on Zoom. If you would like to participate remotely\, please use our online event registration form. \n  \nFirst and third Thursday of each month | Medicine Buddha Practice and The Verses that Saved Sakya from Sickness  \n \nPlease join us as we chant this essential practice which can increase our healing powers so that we can help those in our lives who are struggling with illness and obstacles and also remove our own physical and mental suffering. An abbreviated version of the Chenrezig practice is inserted in the prayer which follows\, known as the Verses that Saved Sakya from Sickness. \n  \nSecond\, fourth and fifth Thursday of each month | Chenrezig Practice \n \nPlease join us as we chant and meditate in order to realize our inborn great compassion.  Guru Vajradhara Tai Situ Rinpoche has said that\, “Chenrezig is the embodiment of compassion\, Bodhicitta. We reach Buddhahood intentionally\, and the intention is Bodhicitta. That is what Chenrezig represents. The Chenrezig Sadhana is the most sacred and profound sadhana. By practicing it with awareness\, you can attain Chenrezig’s enlightened body\, speech\, and mind.” \n  \nThe liturgies are being screen shared and are translated as well as written phonetically. You can chant along\, or silently read the translation. \nThese sessions are free of charge. \n  \nPlease do not visit the monastery if you feel unwell and/or have a fever. \nWe urge all program participants to take precautions against the ongoing risk of COVID through protection such as having up-to-date vaccinations\, wearing a good-quality mask indoors\, washing hands and maintaining physical distance. \nMasks and hand sanitizer will be available at all entryways. \nMany thanks to all of you for your support in keeping this event as safe as possible! \n 
URL:https://palpungny.org/events/thursday-evenings-alternating-practices-medicine-buddha-and-chenrezig-3/2024-12-26/
LOCATION:Palpung Thubten Chöling\, 245 Sheafe Road\, Wappingers Falls\, NY\, 12590\, United States
CATEGORIES:Ongoing Events
ATTACH;FMTTYPE=image/jpeg:https://palpungny.org/wp-content/uploads/2024/02/hung-hri-seed-syllables-1.jpeg
END:VEVENT
END:VCALENDAR