BEGIN:VCALENDAR
VERSION:2.0
PRODID:-//Palpung New York - ECPv6.14.2//NONSGML v1.0//EN
CALSCALE:GREGORIAN
METHOD:PUBLISH
X-WR-CALNAME:Palpung New York
X-ORIGINAL-URL:https://palpungny.org
X-WR-CALDESC:Events for Palpung New York
REFRESH-INTERVAL;VALUE=DURATION:PT1H
X-Robots-Tag:noindex
X-PUBLISHED-TTL:PT1H
BEGIN:VTIMEZONE
TZID:America/New_York
BEGIN:DAYLIGHT
TZOFFSETFROM:-0500
TZOFFSETTO:-0400
TZNAME:EDT
DTSTART:20210314T070000
END:DAYLIGHT
BEGIN:STANDARD
TZOFFSETFROM:-0400
TZOFFSETTO:-0500
TZNAME:EST
DTSTART:20211107T060000
END:STANDARD
END:VTIMEZONE
BEGIN:VEVENT
DTSTART;TZID=America/New_York:20211107T080000
DTEND;TZID=America/New_York:20211107T170000
DTSTAMP:20260421T143112
CREATED:20211103T021938Z
LAST-MODIFIED:20231001T121228Z
UID:10000654-1636272000-1636304400@palpungny.org
SUMMARY:The Perfection of Merit: A Day of Dharma Activity - 2021
DESCRIPTION:Because of heightened covid rates in the area\, this event is closed to the public. Please see details below for how you can still share in the merit! \n  \nBuddhahood is the state in which one spontaneously and effortlessly benefits oneself and all beings without exception. In order to attain this state\, we must perfect the accumulations of merit and wisdom. Through the perfection of the two accumulations\, we purify our notions of self and other and realize the true nature of mind. \nBelow is a schedule of the days events\, many of which you can participate in remotely. For information on how to join us via ZOOM\, please click here. \n9:30 am | Lighting of 500 butterlamps  (no Zoom)\n10:00 am| Blessing of Shrine – flowers\, fruit\, e-candles\n11:00 am| Chanting of Chenrezig and Green Tara sadhanas\nChenrezig is the deity who embodies the compassion of all Buddhas. Green Tara\, often referred to as “The Mother of Liberation\,” is known for her swift activity in dispelling fears\, obstacles and illness.\nNoon| Lunch\n1:30 pm| Animal Liberation through Fish Release (no Zoom)\n2:30 pm| Sür\, Evening Fire Offering Ceremony\nSür (evening fire offering ceremony) is an offering to the 4 guests: the Buddhas & Bodhisattvas; Protectors; sentient beings; and those with whom we have karmic debts. It averts obstacles and sickness and is dedicated to those who are dying\, beings in the Bardo\, and to beings with whom we have karmic debts.\nDusk | Lighting of 500 butter lamps and chanting of Butterlamp Aspiration prayer (no Zoom) \n  \nAlthough the monastery is closed to the public\, there are many ways to share in the merit of these activities through the offering of butter lamps\, sponsoring the chanting\, the tea served during the chanting\, lunch and the fire ceremony. You may also sponsor the saving of life (animal liberation) through fish release for family or friends for their good health and long life. \nYou may also simply mail your tax-deductible contribution to: \nPalpung Thubten Chöling\nAttn: Office\n245 Sheafe Road\, Wappingers Falls\, NY 12590. \nPlease make checks payable to Palpung Thubten Choling or PTC. For credit card payments\, fax your credit card number (VISA or MasterCard only)\, along with the expiration date and signature and the amount you would like to charge to (845) 297-5761. For your protection\, please do not email your credit card information. \nPlease send your prayer request and sponsorship information 48 hours before the first day of chanting to guarantee that we receive it in time to announce your prayer. If you are not able to do that\, please leave a short but clear message of your prayer on  845-297-2500  and we will do our best to have your prayer announced.
URL:https://palpungny.org/events/the-perfection-of-merit-a-day-of-dharma-activity/
LOCATION:Palpung Thubten Chöling\, 245 Sheafe Road\, Wappingers Falls\, NY\, 12590\, United States
CATEGORIES:Current Events
ATTACH;FMTTYPE=image/jpeg:https://palpungny.org/wp-content/uploads/2021/11/chenrezi_tara.jpg
END:VEVENT
END:VCALENDAR