BEGIN:VCALENDAR
VERSION:2.0
PRODID:-//Palpung New York - ECPv6.14.2//NONSGML v1.0//EN
CALSCALE:GREGORIAN
METHOD:PUBLISH
X-WR-CALNAME:Palpung New York
X-ORIGINAL-URL:https://palpungny.org
X-WR-CALDESC:Events for Palpung New York
REFRESH-INTERVAL;VALUE=DURATION:PT1H
X-Robots-Tag:noindex
X-PUBLISHED-TTL:PT1H
BEGIN:VTIMEZONE
TZID:America/New_York
BEGIN:DAYLIGHT
TZOFFSETFROM:-0500
TZOFFSETTO:-0400
TZNAME:EDT
DTSTART:20230312T070000
END:DAYLIGHT
BEGIN:STANDARD
TZOFFSETFROM:-0400
TZOFFSETTO:-0500
TZNAME:EST
DTSTART:20231105T060000
END:STANDARD
END:VTIMEZONE
BEGIN:VEVENT
DTSTART;TZID=America/New_York:20230511T100000
DTEND;TZID=America/New_York:20230511T120000
DTSTAMP:20260421T221833
CREATED:20230408T235113Z
LAST-MODIFIED:20230408T235113Z
UID:10000036-1683799200-1683806400@palpungny.org
SUMMARY:Kalu Rinpoche's Practice of Aspiration Prayers (Monlam Choga)\, followed by the Short Practice of the Peaceful & Wrathful Deities (Shitro)
DESCRIPTION:The monastery is now open. Visitors are required to wear masks. Please note that accommodations remain closed to the public. \n  \nPlease join us in the chanting of the Monlam Choga\, a practice of offering and aspiration prayers compiled by Dorje Chang Kalu Rinpoche. This is followed by the short liturgy of Shitro (Peaceful and Wrathful Deities)\, a profound practice from the cycle of teachings and meditations of the Tibetan Book of the Dead. We dedicate this practice to the deceased in order to purify negativities\, avert obstacles in the bardo\, and establish a connection with the deities that will ripen in future lives. \n  \nIf you would like to participate via Zoom please use our online event registration form.  To join the chanting please download Kalu Rinpoche’s Practice of Aspiration Prayers (Monlam Choga) \n  \nMonday\, Tuesday\, Wednesday and Thursday night classes will continue on Zoom only. To join us via Zoom please click here. \nPlease do not visit the monastery if you feel unwell and/or have a fever. \nAll visitors are required to wear a mask indoors. Children 12 years old and younger must be supervised. No pets please. \n  \n  \n 
URL:https://palpungny.org/events/chanting-of-the-monlam-choga-2022-05-28-8/
LOCATION:Palpung Thubten Chöling\, 245 Sheafe Road\, Wappingers Falls\, NY\, 12590\, United States
CATEGORIES:Ongoing Events
END:VEVENT
BEGIN:VEVENT
DTSTART;TZID=America/New_York:20230519T100000
DTEND;TZID=America/New_York:20230519T120000
DTSTAMP:20260421T221833
CREATED:20230517T131235Z
LAST-MODIFIED:20230517T131236Z
UID:10000037-1684490400-1684497600@palpungny.org
SUMMARY:Kalu Rinpoche's Practice of Aspiration Prayers (Monlam Choga)\, followed by the Short Practice of the Peaceful & Wrathful Deities (Shitro)
DESCRIPTION:The monastery is now open. Visitors are required to wear masks. Please note that accommodations remain closed to the public. \n  \nPlease join us in the chanting of the Monlam Choga\, a practice of offering and aspiration prayers compiled by Dorje Chang Kalu Rinpoche. This is followed by the short liturgy of Shitro (Peaceful and Wrathful Deities)\, a profound practice from the cycle of teachings and meditations of the Tibetan Book of the Dead. We dedicate this practice to the deceased in order to purify negativities\, avert obstacles in the bardo\, and establish a connection with the deities that will ripen in future lives. \n  \nIf you would like to participate via Zoom please use our online event registration form.  To join the chanting please download Kalu Rinpoche’s Practice of Aspiration Prayers (Monlam Choga) \n  \nMonday\, Tuesday\, Wednesday and Thursday night classes will continue on Zoom only. To join us via Zoom please click here. \nPlease do not visit the monastery if you feel unwell and/or have a fever. \nAll visitors are required to wear a mask indoors. Children 12 years old and younger must be supervised. No pets please. \n  \n  \n 
URL:https://palpungny.org/events/chanting-of-the-monlam-choga-2022-05-28-11/
LOCATION:Palpung Thubten Chöling\, 245 Sheafe Road\, Wappingers Falls\, NY\, 12590\, United States
CATEGORIES:Ongoing Events
END:VEVENT
BEGIN:VEVENT
DTSTART;TZID=America/New_York:20230527T100000
DTEND;TZID=America/New_York:20230527T120000
DTSTAMP:20260421T221833
CREATED:20230523T143204Z
LAST-MODIFIED:20230523T143235Z
UID:10000038-1685181600-1685188800@palpungny.org
SUMMARY:Kalu Rinpoche's Practice of Aspiration Prayers (Monlam Choga)\, followed by the Short Practice of the Peaceful & Wrathful Deities (Shitro)
DESCRIPTION:The monastery is now open. We recommend that visitors wear masks indoors. Masks and hand sanitizer are available at all entryways. Please note that accommodations remain closed to the public\, except when noted otherwise for special programs . \n  \nToday’s chanting will take place in the upstairs shrineroom in the older building and will not be Zoomed. \nPlease join us in the chanting of the Monlam Choga\, a practice of offering and aspiration prayers compiled by Dorje Chang Kalu Rinpoche. This is followed by the short liturgy of Shitro (Peaceful and Wrathful Deities)\, a profound practice from the cycle of teachings and meditations of the Tibetan Book of the Dead. We dedicate this practice to the deceased in order to purify negativities\, avert obstacles in the bardo\, and establish a connection with the deities that will ripen in future lives. \n  \nMonday\, Tuesday\, Wednesday and Thursday night classes will continue on Zoom only. To join us via Zoom please click here. \nPlease do not visit the monastery if you feel unwell and/or have a fever. \nAll visitors are required to wear a mask indoors. Children 12 years old and younger must be supervised. No pets please. \n  \n  \n 
URL:https://palpungny.org/events/chanting-of-the-monlam-choga-2022-05-28-12/
LOCATION:Palpung Thubten Chöling\, 245 Sheafe Road\, Wappingers Falls\, NY\, 12590\, United States
CATEGORIES:Ongoing Events
END:VEVENT
END:VCALENDAR