BEGIN:VCALENDAR
VERSION:2.0
PRODID:-//Palpung New York - ECPv6.14.2//NONSGML v1.0//EN
CALSCALE:GREGORIAN
METHOD:PUBLISH
X-WR-CALNAME:Palpung New York
X-ORIGINAL-URL:https://palpungny.org
X-WR-CALDESC:Events for Palpung New York
REFRESH-INTERVAL;VALUE=DURATION:PT1H
X-Robots-Tag:noindex
X-PUBLISHED-TTL:PT1H
BEGIN:VTIMEZONE
TZID:America/New_York
BEGIN:DAYLIGHT
TZOFFSETFROM:-0500
TZOFFSETTO:-0400
TZNAME:EDT
DTSTART:20250309T070000
END:DAYLIGHT
BEGIN:STANDARD
TZOFFSETFROM:-0400
TZOFFSETTO:-0500
TZNAME:EST
DTSTART:20251102T060000
END:STANDARD
END:VTIMEZONE
BEGIN:VEVENT
DTSTART;TZID=America/New_York:20250520T100000
DTEND;TZID=America/New_York:20250521T170000
DTSTAMP:20260424T204457
CREATED:20250219T142122Z
LAST-MODIFIED:20250510T122900Z
UID:10003592-1747735200-1747846800@palpungny.org
SUMMARY:Teachings on the Nyungne Purification and Fasting Practice and Bestowal of the Thousand Armed-Chenrezig Empowerment
DESCRIPTION:PTC is pleased to welcome Khenpo Lodro Donyo Rinpoche\, who will be giving teachings on the Nyungne Purification and Fasting Practice and bestowing the empowerment of Thousand-Armed Chenrezig. \n【大悲觀世音菩薩齋戒（新）】 見下文中文翻譯 \n \n  \nChenrezig or Avalokiteshvara\, typically depicted as having two or four arms\, is the embodiment of fully awakened compassion\, the heartfelt wish and initiative to free all beings from suffering. Thousand-Armed Chenrezig\, who has 11 heads in various colors\, and 1\,000 arms and hands with an eye in the center of each palm\, thus represents the infinite capacity of the awakened mind to see the suffering of beings in all directions and to offer help in infinite ways. The main practice associated with Thousand-Armed Chenrezig is Nyungne\, a profound kriya tantra meditation ritual based on loving-kindness and compassion and renowned as a superior means to purify negative karma and accumulate great merit. \nKhenpo Donyo Rinpoche is the main spiritual successor of Kyabje Bokar Rinpoche\, and has visited and taught at PTC several times previously. Read his biography here. \n\n  \nChinese translation will be available.  \n  \nThe schedule is as follows: \n\n\nTuesday May 20:   \n10:00 am – 12:00 pm & 2:00 pm – 5:00 pm | Teaching on Nyungne Purification and Fasting Practice\n \n*  These sessions are being offered in person and on Zoom. \nClick here for registration\nClick here for accommodations \n  \nWednesday May 21:   \n10:00 am – 12:00 pm | Teaching on the Nyungne Purification and Fasting Practice\n \n*  This session is being offered in person and on Zoom. \nClick here for registration\nClick here for accommodations \n  \nWednesday May 21:   \n2:00 pm  | Thousand Armed-Chenrezig Empowerment \n \n** This session is being offered in-person only. \nClick here for registration\nClick here for accommodations \n  \n  \nFees for Teaching and Empowerment Sessions. Cost of accommodations not included.  \nIn-Person and Zoom/Live Stream:\nMembers $30/session\nNon-Members $35/session \n* For those registering to participate in the teachings on the Nyungne Purification and Fasting Practice\, a link unique to these teachings will be sent. It will be a different link than the one used to access our weekly public classes and chanting sessions. \n** For those registering to participate in the Thousand Armed-Chenrezig Empowerment (in-person only) – participants in need of Chinese translation will be given a one time dedicated zoom link on site which we respectfully ask not be shared with anyone off site. \nFor Chinese translation in-person:  Please bring your own devices (smartphones or tablets) with headphones and Zoom app installed. Those devices with no cellular service may connect to the guest WiFi.  \n  \n  \nAccommodations: Please note that accommodations are only open to program participants.\n \nPlease review the options for daily rates below. These rates include vegetarian meals. They do not include teachings/seminar fees. \nWe have limited accommodations; private rooms are not available. \nType of Accommodation  (Per Person)                Non-Member / Member \nDormitory                                                                   $35 / $30\nDouble Occupancy Room Guest House                   $70 / $50 \nTent Camping ($25 first person\, $20 each additional) \n  \n  \nDay Guests: The suggested donation for meals: \n\nBreakfast – $5\nLunch – $10\nDinner – $5\n\nPlease send an email to reservations@palpungny.org if you are joining us for meals. \nPlease note our meal offerings may contain common allergens including soy\, wheat\, tree nuts\, seeds\, milk\, and egg products. We are sorry that we are unable to accommodate special dietary needs. \n  \n  \nPlease do not visit the monastery if you feel unwell and/or have a fever. \nWe urge all program participants to take precautions against the ongoing risk of COVID-19 through wearing masks and washing hands. \nMasks and hand sanitizer will be available at all entryways. \nMany thanks to all of you for your support in keeping this event as safe as possible! \n\n\n  \n  \n【千手千眼大悲觀音八關齋戒(紐涅)】教法開示及灌頂\n5 月 20-21日上午10:00-下午5:00 \n法林寺（PTC）喜迎堪布洛卓東由仁波切 (Khenpo Lodro Donyo Rinpoche) 蒞臨開示【千手觀音淨化和齋戒（紐涅) 】的修持並灌頂。 \n觀世音菩薩通常被繪成有兩臂或四臂。他是圓滿證悟的慈悲心，救度所有眾生出苦海的大悲願的化現。千手觀音具有顏色各異的十一面，一千隻手，每一手心有一隻眼，表示以廣大圓滿無礙大悲心，遍觀世間十方眾生，以無量大力護佑眾生。千手觀音的主要修行是“紐涅”，這是一門基於慈悲心的深奧密法，被譽為淨化惡業和積累巨大功德的極上法門。 \n堪布東由仁波切 (Khenpo Donyo Rinpoche) 是至尊波卡仁波切 (Kyabje Bokar Rinpoche) 的主要法𠻸，曾多次蒞臨 PTC 轉法輪。擊此閱讀他的傳記。 \n將提供中文翻譯。 \n時程如下： \n5 月 20 日，星期二：\n \n上午10:00–12:00 及下午2:00-5:00 |開示紐涅的修持 \n* 這課將現場和 Zoom直播。 \n點擊此處註冊課程\n點擊此處預訂住宿 \n  \n5 月 21 日星期三：\n \n上午10:00–12:00 |開示紐涅的修持 \n* 這課將現場和 Zoom直播。 \n點擊此處註冊課程\n點擊此處預訂住宿 \n  \n5 月 21 日星期三：\n \n下午 2:00 |千手觀世音菩薩灌頂 \n** 此課僅限現場參加。 \n點擊此處註冊課程\n點擊此處預訂住宿 \n\n開示課程及灌頂費用不含住宿費用 \n現場及 Zoom/直播：\n會員 $30/節\n非會員 35 美元/節 \n* 已註冊參加開示課程者，將獲送此課專用的鏈接。此鏈接不同於平時每周使用的。 \n** 已註冊參加灌頂法會者（僅限現場），需聆聽中文翻譯者，將在現場獲專用的 zoom 鏈接，請勿與不在現場者分享。 \n聆聽現場中文翻譯者：請攜帶自己的設備（智慧型手機或平板電腦），耳機和預先裝好Zoom。無行動通信的設備可連至訪客 WiFi。 \n\n住宿：請注意，住宿僅供參加者。 \n以下每日費用含素齋飯，但不含課程灌預費用。 \n住宿房間有限；恕不提供單人房。 \n住宿類型（每人）                 非會員/會員 \n宿舍                                      $35 / $30\n雙人房                                   $70 / $50\n帳篷露營（第一人 25 美元，每加一人 20 美元） \n  \n非住宿者：餐費建議捐贈： \n\n早餐 – 5 美元\n午餐 – 10 美元\n晚餐 – 5 美元\n\n需用餐者請發送電郵 \n請注意，我們提供的餐食可能含有常見的過敏原，包括大豆、小麥、堅果、種子、牛奶和蛋製品。恕無法滿足特殊的飲食需要。 \n  \n  \n若您感覺不適和/或發燒，請不要前來本寺。 \n所有參加者請戴口罩和洗手，以防感染流行病。 \n所有入口處均提供口罩和洗手液。 \n非常感謝大家的支持，確保本次活動盡可能的安全！ \n\n\n  \n  \n\n\n  \n\n  \n 
URL:https://palpungny.org/events/teachings-on-the-nyungne-purification-and-fasting-practice-and-bestowal-of-the-thousand-armed-chenrezig-empowerment-2025/
LOCATION:Palpung Thubten Chöling\, 245 Sheafe Road\, Wappingers Falls\, NY\, 12590\, United States
CATEGORIES:Current Events
ATTACH;FMTTYPE=image/jpeg:https://palpungny.org/wp-content/uploads/2025/01/khenpodonyo.peg_-e1736467793791.jpeg
END:VEVENT
BEGIN:VEVENT
DTSTART;TZID=America/New_York:20250527T053000
DTEND;TZID=America/New_York:20250612T080000
DTSTAMP:20260424T204457
CREATED:20250219T230950Z
LAST-MODIFIED:20250227T181128Z
UID:10003604-1748323800-1749715200@palpungny.org
SUMMARY:Nyungne Retreat - The Fasting Ritual and Meditation of Thousand-Armed Chenrezig
DESCRIPTION:The resident sangha of PTC will be practicing 8 consecutive sets of Nyungne (the Fasting Ritual and Meditation of Thousand-Armed Chenrezig). This retreat will be held during the auspicious month of Saga Dawa\, the month commemorating the birth\, enlightenment and parinirvana of Shakyamuni Buddha. It is said that\, during this time\, the merit accumulated through performing virtuous activity is multiplied 100\,000 times. \nThe Nyungne practice is a profound kriya tantra meditation ritual based on loving-kindness and compassion in the form of Thousand-Armed Chenrezig.  The practice involves maintaining strict vows and meditating while reciting mantras and prayers\, and performing prostrations and visualizations. Undertaken in sets of two days\, the first day includes one vegetarian meal at noon\, drinking water throughout the day as needed. The second day is a complete fast performed in noble silence. The Nyungne is renowned as a superior means to purify negative karma and accumulate great merit. \nChenrezig himself declared that completing even one Nyungne prevents rebirth in the lower realms\, and the practice of eight consecutive Nyungne leads to birth in Amitabha’s pure land of Dewachen. \n  \nThe dates for each set are as follows:\n\nSet 1   Begins May 27 (Tuesday) at 5:30 am.  Ends May 29 (Thursday) about 8:00 am.\nSet 2   Begins May 29 (Thursday) at 5:00 am.  Ends May 31(Saturday) about 8:00 am.\nSet 3   Begins May 31 (Saturday at 5:00 am.  Ends June 2 (Monday) about 8:00 am.\nSet 4   Begins June 2 (Monday) at 5:00 am.  Ends June 4 (Wednesday) about 8:00 am.\nSet 5   Begins June 4 (Wednesday) at 5:00 am.  Ends June 6 (Friday) about 8:00 am.\nSet 6   Begins June 6 (Friday) at 5:00 am.  Ends June 8 (Sunday) about 8:00 am.\nSet 7   Begins June 8 (Sunday) at 5:00 am.  Ends June 10 (Tuesday) about 8:00 am.\nSet 8   Begins June 10 (Tuesday) at 5:00 am.  Ends June 12 (Thursday) about 8:00 am. \n  \nThis event is in-person only.  It will not be accessible remotely. \n  \nGuests are welcome to participate in any or all of the Nyungne sets but please note – it is necessary to arrive at PTC by 8:00 pm the evening before any set as the practice begins as early as 5:00 am every day throughout the retreat. \nGuests attending a nyungne for the first time must speak to Lama Dechi before doing this practice. Please contact her by email or call 845-297-2500 (leaving both your name and phone number so that she can get back to you). \nWe do suggest that guests try to come for the 1st day of any given nyungne set\, but if that is not practical\, it is still possible to participate any day of the retreat. For further details for how to participate in this way\, please follow the contact instructions above. \n  \nPlease note that accommodations are only open to program participants. \n  \nThe price for each nyungne set includes all meals and accommodations. Prices per set and per person are:\n \nType of Accommodation                                      Non-Member / Member \nDormitory                                                                   $50 / $30\nDouble Occupancy Room Guest House                   $70 / $50\nPrivate Room Guest House                                       $90 / $70\nDouble Occupancy Room Maitreya Center               $110 / $90\nPrivate Room Maitreya Center                                  $130 / $110 \n  \nTO REGISTER PLEASE CLICK HERE \nDeadline for Registration is May 22 \n  \nThere are many ways to share in the merit of this retreat through sponsoring the chanting\, and meals or the tea served on non-fasting days.   Be sure to include a prayer with your donation which will be read aloud to the assembly. \nYou may also simply mail your tax-deductible contribution to:\nPalpung Thubten Chöling\nAttn: Office\n245 Sheafe Road\, Wappingers Falls\, NY 12590. \nPlease make checks payable to Palpung Thubten Choling or PTC. \nPlease send your prayer request and sponsorship information 48 hours before the first day of chanting to guarantee that we receive it in time to announce your prayer. If you are not able to do that\, please leave a short but clear message of your prayer on 845-297-2500 and we will do our best to have your prayer announced. \n  \nPlease do not visit the monastery if you feel unwell and/or have a fever. \nWe urge all program participants to take precautions against the ongoing risk of COVID-19 through protection such as wearing masks and washing hands. \nMasks and hand sanitizer will be available at all entryways. \nMany thanks to all of you for your support in keeping this event as safe as possible! \n  \n\n 
URL:https://palpungny.org/events/nyungne-retreat-the-fasting-ritual-and-meditation-of-thousand-armed-chenrezig-4/
LOCATION:Palpung Thubten Chöling\, 245 Sheafe Road\, Wappingers Falls\, NY\, 12590\, United States
CATEGORIES:Current Events
ATTACH;FMTTYPE=image/jpeg:https://palpungny.org/wp-content/uploads/2022/10/1000armedchenrezig-enhanced-e1665072720734.jpg
END:VEVENT
END:VCALENDAR