BEGIN:VCALENDAR
VERSION:2.0
PRODID:-//Palpung New York - ECPv6.14.2//NONSGML v1.0//EN
CALSCALE:GREGORIAN
METHOD:PUBLISH
X-WR-CALNAME:Palpung New York
X-ORIGINAL-URL:https://palpungny.org
X-WR-CALDESC:Events for Palpung New York
REFRESH-INTERVAL;VALUE=DURATION:PT1H
X-Robots-Tag:noindex
X-PUBLISHED-TTL:PT1H
BEGIN:VTIMEZONE
TZID:America/New_York
BEGIN:DAYLIGHT
TZOFFSETFROM:-0500
TZOFFSETTO:-0400
TZNAME:EDT
DTSTART:20240310T070000
END:DAYLIGHT
BEGIN:STANDARD
TZOFFSETFROM:-0400
TZOFFSETTO:-0500
TZNAME:EST
DTSTART:20241103T060000
END:STANDARD
END:VTIMEZONE
BEGIN:VEVENT
DTSTART;TZID=America/New_York:20240321T193000
DTEND;TZID=America/New_York:20240321T203000
DTSTAMP:20260422T180855
CREATED:20240310T191047Z
LAST-MODIFIED:20240310T191207Z
UID:10002687-1711049400-1711053000@palpungny.org
SUMMARY:Thursday evenings - Alternating Practices: Medicine Buddha and Chenrezig
DESCRIPTION:7:30 pm – 8:30 pm  \nThese chanting sessions are being offered in person and on Zoom. If you would like to participate remotely\, please use our online event registration form. \n  \nFirst and third Thursday of each month | Medicine Buddha Practice and The Verses that Saved Sakya from Sickness  \n \nPlease join us as we chant this essential practice which can increase our healing powers so that we can help those in our lives who are struggling with illness and obstacles and also remove our own physical and mental suffering. An abbreviated version of the Chenrezig practice is inserted in the prayer which follows\, known as the Verses that Saved Sakya from Sickness. \n  \nSecond\, fourth and fifth Thursday of each month | Chenrezig Practice \n \nPlease join us as we chant and meditate in order to realize our inborn great compassion.  Guru Vajradhara Tai Situ Rinpoche has said that\, “Chenrezig is the embodiment of compassion\, Bodhicitta. We reach Buddhahood intentionally\, and the intention is Bodhicitta. That is what Chenrezig represents. The Chenrezig Sadhana is the most sacred and profound sadhana. By practicing it with awareness\, you can attain Chenrezig’s enlightened body\, speech\, and mind.” \n  \nThe liturgies are being screen shared and are translated as well as written phonetically. You can chant along\, or silently read the translation. \nThese sessions are free of charge. \n  \nPlease do not visit the monastery if you feel unwell and/or have a fever. \nWe urge all program participants to take precautions against the ongoing risk of COVID through protection such as having up-to-date vaccinations\, wearing a good-quality mask indoors\, washing hands and maintaining physical distance. \nMasks and hand sanitizer will be available at all entryways. \nMany thanks to all of you for your support in keeping this event as safe as possible! \n 
URL:https://palpungny.org/events/thursday-evenings-alternating-practices-medicine-buddha-and-chenrezig-3/2024-03-21/
LOCATION:Palpung Thubten Chöling\, 245 Sheafe Road\, Wappingers Falls\, NY\, 12590\, United States
CATEGORIES:Ongoing Events
ATTACH;FMTTYPE=image/jpeg:https://palpungny.org/wp-content/uploads/2024/02/hung-hri-seed-syllables-1.jpeg
END:VEVENT
BEGIN:VEVENT
DTSTART;TZID=America/New_York:20240324T100000
DTEND;TZID=America/New_York:20240324T120000
DTSTAMP:20260422T180855
CREATED:20240312T171234Z
LAST-MODIFIED:20240427T130826Z
UID:10003154-1711274400-1711281600@palpungny.org
SUMMARY:Dorje Phurba (Vajrakilaya) - Teaching Series led by Lama Lekshe Dorje
DESCRIPTION:These teachings are restricted to those who have received the empowerment.\n \nLama Lekshe Dorje will be leading a series of teachings on the Dorje Phurba (Vajrakilaya) practice. Dorje Phurba is a powerful deity relied on by Guru Rinpoche to dispel obstacles to the realization of Mahamudra. The sadhana of Dorje Phurba is chanted daily at PTC and these teachings are a special opportunity to explore its meaning in depth. \nLama Lekshe Dorje. a resident of PTC\, has completed two cycles of the three-year retreat. \n  \nThese teaching sessions are being offered in person and on Zoom. If you would like to participate remotely\, please use our online event registration form. \nProviding accurate translations is an important function in our teaching series. If you would like to donate and help to support our translation efforts\, please use the form or the Text Translation Donation Window. \n    \n    \n    \n     \n\n        Translation Support\n       \n  \nIf you prefer\, you can also support textual translation by using the form offered below \n \n  \nPlease do not visit the monastery if you feel unwell and/or have a fever. \nWe urge all program participants to take precautions against the ongoing risk of COVID through protection such as having up-to-date vaccinations\, wearing a good-quality mask indoors\, washing hands and maintaining physical distance. \nMasks and hand sanitizer will be available at all entryways. \nMany thanks to all of you for your support in keeping this event as safe as possible! \n  \n 
URL:https://palpungny.org/events/dorje-phurba-vajrakilaya-teaching-series-led-by-lama-lekshe-dorje/
LOCATION:Palpung Thubten Chöling\, 245 Sheafe Road\, Wappingers Falls\, NY\, 12590\, United States
CATEGORIES:Current Events
ATTACH;FMTTYPE=image/jpeg:https://palpungny.org/wp-content/uploads/2024/03/bam-cropped-min-e1710262692633.jpeg
END:VEVENT
BEGIN:VEVENT
DTSTART;TZID=America/New_York:20240328T193000
DTEND;TZID=America/New_York:20240328T203000
DTSTAMP:20260422T180855
CREATED:20240310T191047Z
LAST-MODIFIED:20240310T191207Z
UID:10002689-1711654200-1711657800@palpungny.org
SUMMARY:Thursday evenings - Alternating Practices: Medicine Buddha and Chenrezig
DESCRIPTION:7:30 pm – 8:30 pm  \nThese chanting sessions are being offered in person and on Zoom. If you would like to participate remotely\, please use our online event registration form. \n  \nFirst and third Thursday of each month | Medicine Buddha Practice and The Verses that Saved Sakya from Sickness  \n \nPlease join us as we chant this essential practice which can increase our healing powers so that we can help those in our lives who are struggling with illness and obstacles and also remove our own physical and mental suffering. An abbreviated version of the Chenrezig practice is inserted in the prayer which follows\, known as the Verses that Saved Sakya from Sickness. \n  \nSecond\, fourth and fifth Thursday of each month | Chenrezig Practice \n \nPlease join us as we chant and meditate in order to realize our inborn great compassion.  Guru Vajradhara Tai Situ Rinpoche has said that\, “Chenrezig is the embodiment of compassion\, Bodhicitta. We reach Buddhahood intentionally\, and the intention is Bodhicitta. That is what Chenrezig represents. The Chenrezig Sadhana is the most sacred and profound sadhana. By practicing it with awareness\, you can attain Chenrezig’s enlightened body\, speech\, and mind.” \n  \nThe liturgies are being screen shared and are translated as well as written phonetically. You can chant along\, or silently read the translation. \nThese sessions are free of charge. \n  \nPlease do not visit the monastery if you feel unwell and/or have a fever. \nWe urge all program participants to take precautions against the ongoing risk of COVID through protection such as having up-to-date vaccinations\, wearing a good-quality mask indoors\, washing hands and maintaining physical distance. \nMasks and hand sanitizer will be available at all entryways. \nMany thanks to all of you for your support in keeping this event as safe as possible! \n 
URL:https://palpungny.org/events/thursday-evenings-alternating-practices-medicine-buddha-and-chenrezig-3/2024-03-28/
LOCATION:Palpung Thubten Chöling\, 245 Sheafe Road\, Wappingers Falls\, NY\, 12590\, United States
CATEGORIES:Ongoing Events
ATTACH;FMTTYPE=image/jpeg:https://palpungny.org/wp-content/uploads/2024/02/hung-hri-seed-syllables-1.jpeg
END:VEVENT
BEGIN:VEVENT
DTSTART;TZID=America/New_York:20240331T100000
DTEND;TZID=America/New_York:20240331T120000
DTSTAMP:20260422T180855
CREATED:20240312T185034Z
LAST-MODIFIED:20240404T204523Z
UID:10003155-1711879200-1711886400@palpungny.org
SUMMARY:Dorje Phurba (Vajrakilaya) - Teaching Series led by Lama Lekshe Dorje
DESCRIPTION:These teachings are restricted to those who have received the empowerment.\n \nLama Lekshe Dorje will be leading a series of teachings on the Dorje Phurba (Vajrakilaya) practice. Dorje Phurba is a powerful deity relied on by Guru Rinpoche to dispel obstacles to the realization of Mahamudra. The sadhana of Dorje Phurba is chanted daily at PTC and these teachings are a special opportunity to explore its meaning in depth. \nLama Lekshe Dorje. a resident of PTC\, has completed two cycles of the three-year retreat. \n  \nThese teaching sessions are being offered in person and on Zoom. If you would like to participate remotely\, please use our online event registration form. \n  \nPlease do not visit the monastery if you feel unwell and/or have a fever. \nWe urge all program participants to take precautions against the ongoing risk of COVID through protection such as having up-to-date vaccinations\, wearing a good-quality mask indoors\, washing hands and maintaining physical distance. \nMasks and hand sanitizer will be available at all entryways. \nMany thanks to all of you for your support in keeping this event as safe as possible! \n  \n 
URL:https://palpungny.org/events/dorje-phurba-vajrakilaya-teaching-series-led-by-lama-lekshe-dorje-2/
LOCATION:Palpung Thubten Chöling\, 245 Sheafe Road\, Wappingers Falls\, NY\, 12590\, United States
CATEGORIES:Current Events
ATTACH;FMTTYPE=image/jpeg:https://palpungny.org/wp-content/uploads/2024/03/bam-cropped-min-e1710262692633.jpeg
END:VEVENT
END:VCALENDAR